BEGIN:VCALENDAR
VERSION:2.0
PRODID:-//Delhi-Fun-Dos.com - ECPv6.15.20//NONSGML v1.0//EN
CALSCALE:GREGORIAN
METHOD:PUBLISH
X-ORIGINAL-URL:https://delhi-fun-dos.com
X-WR-CALDESC:Events for Delhi-Fun-Dos.com
REFRESH-INTERVAL;VALUE=DURATION:PT1H
X-Robots-Tag:noindex
X-PUBLISHED-TTL:PT1H
BEGIN:VTIMEZONE
TZID:Asia/Kolkata
BEGIN:STANDARD
TZOFFSETFROM:+0530
TZOFFSETTO:+0530
TZNAME:IST
DTSTART:20240101T000000
END:STANDARD
END:VTIMEZONE
BEGIN:VEVENT
DTSTART;TZID=Asia/Kolkata:20251216T190000
DTEND;TZID=Asia/Kolkata:20251216T220000
DTSTAMP:20260421T131955
CREATED:20251215T113435Z
LAST-MODIFIED:20251215T113435Z
UID:37656-1765911600-1765922400@delhi-fun-dos.com
SUMMARY:Continuing Tradition – 2025
DESCRIPTION:An evening celebrating legacy\, devotion\, and the living tradition of Kathak\, this special edition of Continuing Tradition is a heartfelt tribute to Guru Shovana Narayan. \nThe evening begins with the release of her biography\, I Am a Fleeting Moment in Time by Maya Parijat\, offering insights into the life and journey of one of India’s most respected Kathak exponents. \nThe tribute continues with a powerful Kathak performance by her disciples\, reflecting years of rigorous training\, grace\, and artistic lineage. \nPerforming Artists:Shruti Gupta Chandra • Namita Singh • Kartika Singh • Pallavi Lohani • Komal Biswal • Suparna Singh • Mahima Satsangi • Pushpa Sharma • Ruchi Arya • Ishita Bhushan • Sharanya Bisht \nPresented in collaboration with Asavari Centre for Kathak. \nEvent DetailsDate: 16 December 2025Time: 7:00 PMVenue: India Habitat Centre (IHC)\, New Delhi
URL:https://delhi-fun-dos.com/events/continuing-tradition-2025/
LOCATION:India Habitat Centre New Delhi\, Lodhi Road\, Near Sai Mandir\, Delhi\, 110003\, India
CATEGORIES:Book Launch,Dance
ATTACH;FMTTYPE=image/png:https://delhi-fun-dos.com/wp-content/uploads/2025/12/Continuing-Tradition-6th-Edition.png
END:VEVENT
BEGIN:VEVENT
DTSTART;TZID=Asia/Kolkata:20251111T180000
DTEND;TZID=Asia/Kolkata:20251111T220000
DTSTAMP:20260421T131955
CREATED:20251105T114619Z
LAST-MODIFIED:20251105T114619Z
UID:37412-1762884000-1762898400@delhi-fun-dos.com
SUMMARY:Book Launch: Tara - The Dream Chaser
DESCRIPTION:Celebrate a memorable literary evening as Nelofar Currimbhoy unveils her latest novel\, “Tara – The Dream Chaser\,” at Bikaner House\, New Delhi. The launch on November 11\, 2025\, features a special book reading by acclaimed actor Kabir Bedi\, followed by a conversation with the author. Gain unique insights into Nelofar Currimbhoy’s creative process\, her inspiration for the novel\, and her journey as a writer. Attendees will also enjoy an audio-visual presentation and have the chance to participate in an exclusive book signing session. \nNelofar Currimbhoy is known for her evocative and emotionally rich writing that explores themes of courage\, determination\, and love. Her previous works\, such as “Flame – The Inspiring Life of My Mother\,” have received widespread praise and inspired readers across India in multiple languages. “Tara – The Dream Chaser” continues her tradition of storytelling\, celebrating exceptional heroines and earning recognition at major literary forums. \nEvent Details \n\nDate: November 11\, 2025\nTime: 6.00 pm onwards\nVenue: Bikaner House\, New Delhi\nOrganised by: Nelofar Currimbhoy in association with Rupa Publications\n\nJoin this evening to discover an inspiring novel and meet one of India’s leading literary voices.
URL:https://delhi-fun-dos.com/events/book-launch-tara-the-dream-chaser/
LOCATION:Bikaner House\, between Pandara Rd\, &\, Shahjahan Rd\, India Gate\,\, New Delhi\, Delhi\, India
CATEGORIES:Book Launch
ATTACH;FMTTYPE=image/jpeg:https://delhi-fun-dos.com/wp-content/uploads/2025/11/Cover-page-of-Tara-–-The-Dream-Chaser-by-Author-Nelofar-Currimbhoy.jpg
END:VEVENT
BEGIN:VEVENT
DTSTART;TZID=Asia/Kolkata:20250827T180000
DTEND;TZID=Asia/Kolkata:20250827T203000
DTSTAMP:20260421T131955
CREATED:20250825T072843Z
LAST-MODIFIED:20250825T085319Z
UID:36911-1756317600-1756326600@delhi-fun-dos.com
SUMMARY:Book Launch: Fractured Wings of the Golden Bird
DESCRIPTION:A powerful new novel\, Fractured Wings of the Golden Bird\, offers a fictional yet thought-provoking portrayal of India’s administrative landscape. Through the journey of Satyanand and Mira-an idealistic IAS couple\, the book explores the challenges\, compromises\, and triumphs of navigating the corridors of power. \nAbout the BookThis deeply engaging narrative reflects the hopes and struggles of every young Indian who dreams of joining the IAS to transform lives and shape the nation. It captures: \n\nThe emotional rollercoaster of aspirants and civil servants\nThe ethical dilemmas within governance and public service\nThe constant clash between idealism and systemic challenges\n\nBeyond its characters\, the book serves as a mirror to governance structures in India\, highlighting the urgent need for reforms in: \n\nJustice delivery\nPolitical accountability\nBureaucratic efficiency\nEconomic innovation\n\nWith its central message rooted in ethics\, morality\, and purpose\, this novel calls for a renewed commitment to integrity and empathy in public life. \nAbout the Author – Dr. H. P. Kumar \n\nFormer Chairman\, NSIC (Govt. of India PSU)\nDecades of experience in finance\, governance & public service\nWorked closely with ministries\, constitutional bodies & national leaders\nCo-founder of IOUX & Petit Noyen Kapital (NBFC)\nDirector on the Boards of several companies\nHolds multiple postgraduate\, professional & doctorate degrees\nNational and international recognition for contributions to policy & institutional development\n\nWith over 15 years of hands-on experience\, Dr. Kumar combines professional insights with compelling storytelling to inspire debate and reflection on India’s governance future. \nJoin us at the official book launch to engage with the author and explore a novel that promises to be raw\, honest\, and deeply moving. \nDate: 27th August 2025Time: 6:00 PMVenue: Constitution Club of India\, Deputy Speaker Hall\, Annexe\, Ground Floor\, Rafi Marg\, New Delhi – 110001
URL:https://delhi-fun-dos.com/events/book-launch-fractured-wings-of-the-golden-bird/
LOCATION:Constitution Club of India\, Delhi\, Constitution Club of India\, Delhi\, India
CATEGORIES:Book Launch
ATTACH;FMTTYPE=image/jpeg:https://delhi-fun-dos.com/wp-content/uploads/2025/08/Book-Launch-Fractured-Wings-of-the-Golden-Bird.jpg
END:VEVENT
END:VCALENDAR