BEGIN:VCALENDAR
VERSION:2.0
PRODID:-//Delhi-Fun-Dos.com - ECPv6.15.20//NONSGML v1.0//EN
CALSCALE:GREGORIAN
METHOD:PUBLISH
X-ORIGINAL-URL:https://delhi-fun-dos.com
X-WR-CALDESC:Events for Delhi-Fun-Dos.com
REFRESH-INTERVAL;VALUE=DURATION:PT1H
X-Robots-Tag:noindex
X-PUBLISHED-TTL:PT1H
BEGIN:VTIMEZONE
TZID:Asia/Kolkata
BEGIN:STANDARD
TZOFFSETFROM:+0530
TZOFFSETTO:+0530
TZNAME:IST
DTSTART:20210101T000000
END:STANDARD
END:VTIMEZONE
BEGIN:VEVENT
DTSTART;TZID=Asia/Kolkata:20260402T180000
DTEND;TZID=Asia/Kolkata:20260404T190000
DTSTAMP:20260421T132246
CREATED:20260324T110529Z
LAST-MODIFIED:20260325T071838Z
UID:38111-1775152800-1775329200@delhi-fun-dos.com
SUMMARY:StoneX presents Mastery: A cultural film festival
DESCRIPTION:StoneX presents Mastery\, its original cultural film series that documents individuals whose lives are defined by decades of disciplined practice\, unwavering originality\, and sustained contribution to the arts. Conceived as a long-term storytelling initiative\, Mastery shifts the focus away from recognition and towards process – capturing the routines\, environments\, and quiet moments that shape a lifetime of work. Each film is an intimate portrait\, observing not just what is created\, but how it comes into being. \nThe first season of Mastery brought together a diverse group of contemporary voices across disciplines\, including Rishab Sharma\, Priya Malik\, Lekha Washington\, Benitha Perciyal\, Sandeep Narayan\, Sarah Todd\, Meenakshi Srinivasan\, Subodh Kerkar\, Vibha Galhotra\, Princess Pea\, and Rooshad Shroff. Released on Disney+ Hotstar\, the series introduced audiences to a quieter\, more reflective form of storytelling – one that privileges process over spectacle and depth over immediacy. \nBuilding on this foundation\, Mastery – Season 2 continues the series’ exploration of long-term artistic practice\, bringing together a set of distinguished voices whose work has shaped cultural memory across generations. The Season 2 line-up includes: Ruskin Bond\, Usha Uthup\, Shubha Mudgal\, V. Selvaganesh\, Krishen Khanna\, Anita Ratnam\, and Rima Das. Each film continues the series’ commitment to exploring the inner landscape of creative practice – focusing on discipline\, repetition\, doubt\, and the passage of time. The series is directed by Mriidu Khosla\, founder of Zcyphher Films\, whose approach foregrounds intimacy\, observation\, and a deep engagement with the subject’s process. \nMulti-City Cultural Preview\nAhead of its OTT release\, Mastery – Season 2 will be introduced through a multi-city film festival across India\, beginning in New Delhi and travelling to Kolkata\, Chennai\, Mumbai\, Bengaluru\, and Ahmedabad. The preview has been designed as an immersive\, multi-format experience that extends beyond a traditional screening. This approach transforms Mastery from a viewing experience into a cultural encounter – one that mirrors the depth and multiplicity of the practices it documents. The series will open in New Delhi with a two-day preview from April 3–4 at Samesksha Art Gallery. \nEntry by Free registration on BookMyShow. Limited seats.
URL:https://delhi-fun-dos.com/events/stonex-presents-mastery-a-cultural-film-festival/
LOCATION:Sameksha Art Gallery
CATEGORIES:Documentary
ATTACH;FMTTYPE=image/jpeg:https://delhi-fun-dos.com/wp-content/uploads/2026/03/Mastery-Ad-2H.jpg
END:VEVENT
BEGIN:VEVENT
DTSTART;TZID=Asia/Kolkata:20250917T183000
DTEND;TZID=Asia/Kolkata:20250917T210000
DTSTAMP:20260421T132246
CREATED:20250908T101524Z
LAST-MODIFIED:20250908T101524Z
UID:37092-1758133800-1758142800@delhi-fun-dos.com
SUMMARY:My Childhood\, My Country - Documentary Screening
DESCRIPTION:The award-winning documentary My Childhood\, My Country – 20 Years in Afghanistan (90 min\, 2022) by Phil Grabsky & Shoaib Sharifi chronicles the life of a boy growing up beside the Bamyan Buddhas\, against the backdrop of war and hope. A powerful story of resilience and humanity.(Collaboration: Foundation for Universal Responsibility of His Holiness The Dalai Lama) \nDate: 17 September 2025Time: 6:30 PMVenue: India International Centre (IIC)\, New Delhi
URL:https://delhi-fun-dos.com/events/my-childhood-my-country-documentary-screening/
LOCATION:IIC – India International Centre\, 40\, Max Mueller Marg\, Lodhi Gardens\, Lodhi Estate\, New Delhi\, Delhi
CATEGORIES:Documentary
ATTACH;FMTTYPE=image/jpeg:https://delhi-fun-dos.com/wp-content/uploads/2025/09/afghanisatn-film_My-Childhood-My-Country-–-20-Years-in-Afghanistan.jpg
END:VEVENT
BEGIN:VEVENT
DTSTART;TZID=Asia/Kolkata:20250827T180000
DTEND;TZID=Asia/Kolkata:20250827T203000
DTSTAMP:20260421T132246
CREATED:20250819T071440Z
LAST-MODIFIED:20250819T071440Z
UID:36798-1756317600-1756326600@delhi-fun-dos.com
SUMMARY:Kushok Bakula: The Extraordinary Life of an Extraordinary Monk
DESCRIPTION:Documentary Screening\nScreening of a documentary film by Dr. Hindol Sengupta\, Professor at O.P. Jindal Global University\, on the life of Kushok Bakula Rinpoche\, the late revered Buddhist monk and diplomat. \nChief Guests\n\nH.E. Mr. Ganbold Dambajav – Ambassador of Mongolia to India\nAbhijit Halder – Director General\, International Buddhist Confederation\n\nAbout the Film\nThis special documentary highlights the inspiring life of Kushok Bakula Rinpoche\, a spiritual leader from Ladakh who played a significant role in reviving Buddhism in Mongolia after the end of Communism. Serving as India’s Ambassador to Mongolia for 10 years\, he left a lasting legacy as both a monk and a diplomat. \nPost-Screening Interaction\nThe screening will be followed by a conversation between the filmmaker\, Dr. Hindol Sengupta\, and Dr. Sonam Wangchuk. \nA must-attend cultural evening celebrating spirituality\, diplomacy\, and the timeless wisdom of Kushok Bakula Rinpoche. \nDate & Time: 27 August 2025\, 6:00 PMVenue: India International Centre (IIC)\, New Delhi
URL:https://delhi-fun-dos.com/events/kushok-bakula-the-extraordinary-life-of-an-extraordinary-monk/
LOCATION:IIC – India International Centre\, 40\, Max Mueller Marg\, Lodhi Gardens\, Lodhi Estate\, New Delhi\, Delhi
CATEGORIES:Documentary
ATTACH;FMTTYPE=image/jpeg:https://delhi-fun-dos.com/wp-content/uploads/2025/08/Kushok-Bakula-The-Extraordinary-life-of-an-extraordinary-monk-Documentary-screening-IIC.jpg
END:VEVENT
BEGIN:VEVENT
DTSTART;TZID=Asia/Kolkata:20240927T183000
DTEND;TZID=Asia/Kolkata:20240927T210000
DTSTAMP:20260421T132246
CREATED:20240831T085208Z
LAST-MODIFIED:20240831T085441Z
UID:34644-1727461800-1727470800@delhi-fun-dos.com
SUMMARY:Jamna – The River Story
DESCRIPTION:The film reveals the dire state of Delhi’s Yamuna River\, once pristine and now on the brink of ecological collapse. A documentary crew tries to make sense of the situation by talking to Shyam\, a boatman who relies on the river for his livelihood. Through expert interviews and vox-pop segments\, the film unravels historical neglect and contemporary challenges\, exposing stakeholders’ indifference towards the Yamuna \n(38 min; 2024; English/Hindi with English subtitles)\nDirector: Ishani K. Datta who will introduce the film Screening will be followed by a discussion \nDate & Time: 27 September 2024\, 06:30 pm\nProgramme Type Films and Exhibitions\nVenue C.D. Deshmukh Auditorium\, IIC main building
URL:https://delhi-fun-dos.com/events/jamna-the-river-story/
LOCATION:IIC – India International Centre\, 40\, Max Mueller Marg\, Lodhi Gardens\, Lodhi Estate\, New Delhi\, Delhi
CATEGORIES:Documentary
ATTACH;FMTTYPE=image/jpeg:https://delhi-fun-dos.com/wp-content/uploads/2024/08/Jamna-the-river-story-screening-IIC.jpg
END:VEVENT
BEGIN:VEVENT
DTSTART;TZID=Asia/Kolkata:20240702T183000
DTEND;TZID=Asia/Kolkata:20240702T200000
DTSTAMP:20260421T132246
CREATED:20240701T042825Z
LAST-MODIFIED:20240701T042928Z
UID:33999-1719945000-1719950400@delhi-fun-dos.com
SUMMARY:Kuch Kahi Kuch Ankahi - Documentary
DESCRIPTION:Kuch Kahi Kuch Ankahi (60 min)\nDocumentary\nPresented by Yaqub Ghauri and Sadia Rahman\nDirected by Yaqub Ghauri\nResearch and scripted by Sadia Rahman\, the theatre voice presentation focuses on the story of the legendary film actor\, Dilip Kumar. In Hindustani\, the performance unveils the saga of a fruit merchant’s son\, Yusuf Khan\, and his transformation into Dilip Kumar \nDate & Time: 02 July 2024\, 06:30 pm\nVenue: IIC \n 
URL:https://delhi-fun-dos.com/events/kuch-kahi-kuch-ankahi-documentary/
LOCATION:IIC – India International Centre\, 40\, Max Mueller Marg\, Lodhi Gardens\, Lodhi Estate\, New Delhi\, Delhi
CATEGORIES:Documentary
ATTACH;FMTTYPE=image/jpeg:https://delhi-fun-dos.com/wp-content/uploads/2024/07/Kuch-Kahi-Kuch-Ankahi.jpg
END:VEVENT
BEGIN:VEVENT
DTSTART;TZID=Asia/Kolkata:20230721T190000
DTEND;TZID=Asia/Kolkata:20230721T200000
DTSTAMP:20260421T132246
CREATED:20230719T044503Z
LAST-MODIFIED:20230720T062414Z
UID:30042-1689966000-1689969600@delhi-fun-dos.com
SUMMARY:Documentary - Peng Yu Sai
DESCRIPTION:Peng Yu Sai (India/documentary/English/2020/55 mins). Dir. Nitye Sood & Malaika Vaz. \nAn investigative documentary that dives into the illegal trade in Manta Rays. Wildlife presenter Malaika Vaz follows the illegal trade pipeline from fishing vessels in the Indian Ocean\, to the Indo-Myanmar border and finally undercover in the wildlife trafficking hubs of Hong Kong and Guangzhou in China. Along the way\, she meets with fishermen\, middlemen\, traffickers\, armed forces personnel\, and wildlife trade kingpins\, as she tries to understand what it will take to protect these magnificent ocean giants. Collab. CMS Vatavaran. \nDate & Time: 21 July\, 7:00 pm \nVenue: Gulmohar \nFree entry. Registration required.
URL:https://delhi-fun-dos.com/events/documentary-peng-yu-sai/
LOCATION:Gulmohar – India Habitat Centre\, India Habitat Centre\, Hanuman Road Area\, Lodi Colony\, New Delhi\, Delhi\, 110003
CATEGORIES:Documentary,Movies
ATTACH;FMTTYPE=image/jpeg:https://delhi-fun-dos.com/wp-content/uploads/2023/07/PengYuSai.jpg
END:VEVENT
BEGIN:VEVENT
DTSTART;TZID=Asia/Kolkata:20230720T190000
DTEND;TZID=Asia/Kolkata:20230720T200000
DTSTAMP:20260421T132246
CREATED:20230719T042922Z
LAST-MODIFIED:20230719T044700Z
UID:30039-1689879600-1689883200@delhi-fun-dos.com
SUMMARY:Documentary - Karun
DESCRIPTION:Karun (Iran/Docu/Persian/2019/45 mins). Dir. Mohammad Ehsani.\n\nThe Karun River is the largest river and the only navigable waterway in Iran. Many Biblical scholars believe that the Karun River was one of the four rivers of the Garden of Eden. But climate change\, water transfer plans\, dumping\, and discharge of urban sewage into the Karun River put the Karun at risk of destruction. Collab. CMS Vatavaran.\n\n\n\n\n\n\n\n\n\n\n\nDate & Timing: 20 July\, 7:00 pm\nVenue: Gulmohar\n\n\n\n\n\n\n\n\n\n\n\n\n\n\n\nFree entry. Registration required.
URL:https://delhi-fun-dos.com/events/documentary-karun/
LOCATION:Gulmohar – India Habitat Centre\, India Habitat Centre\, Hanuman Road Area\, Lodi Colony\, New Delhi\, Delhi\, 110003
CATEGORIES:Documentary,Movies
ATTACH;FMTTYPE=image/jpeg:https://delhi-fun-dos.com/wp-content/uploads/2023/07/Karun_Poster.jpg
END:VEVENT
BEGIN:VEVENT
DTSTART;TZID=Asia/Kolkata:20230719T190000
DTEND;TZID=Asia/Kolkata:20230719T200000
DTSTAMP:20260421T132246
CREATED:20230719T041248Z
LAST-MODIFIED:20230719T044647Z
UID:30036-1689793200-1689796800@delhi-fun-dos.com
SUMMARY:Documentary - Queens of Orango
DESCRIPTION:Queens of Orango (Guinea Bissau & Spain/ Docu/English/ 2020/52 mins). Dir.Raúl Bueno Herrera. \nThis documentary focuses on the lives of some of the women of Eticoga\, the main village on the island of Orango. Through their lives and ways of looking\, we see the most outstanding and peculiar aspects of this matriarchal society\, which is so different\, not only from the Western way of life but from the rest of Africa and almost all other cultures on the planet. Collab. CMS Vatavaran. \nDate & Timing: 19 July\, 7:00 pm \nVenue: Gulmohar \nFree entry. Registration required.
URL:https://delhi-fun-dos.com/events/documentary-queens-of-orango/
LOCATION:Gulmohar – India Habitat Centre\, India Habitat Centre\, Hanuman Road Area\, Lodi Colony\, New Delhi\, Delhi\, 110003
CATEGORIES:Documentary
ATTACH;FMTTYPE=image/jpeg:https://delhi-fun-dos.com/wp-content/uploads/2023/07/Queens-of-Orango.jpg
END:VEVENT
BEGIN:VEVENT
DTSTART;TZID=Asia/Kolkata:20221016T190000
DTEND;TZID=Asia/Kolkata:20221016T200000
DTSTAMP:20260421T132246
CREATED:20221010T062406Z
LAST-MODIFIED:20221010T062406Z
UID:27271-1665946800-1665950400@delhi-fun-dos.com
SUMMARY:Three Sisters
DESCRIPTION:Three Sisters (Documentry/ 2018/58 mins) Dir.Putul Mahmood. This film revolves around Shikha\, Rupashi\, and Seema who were forcibly admitted by their family to a public mental hospital in Calcutta\, twenty years ago. They have been living there ever since they have been separated from and neglected by their families who never visit them. This is a story about the three sisters’ madness\, their longing for familial love\, and their tremendous grace and dignity in the face of denial of that love. Collab. Kriti Film Club.
URL:https://delhi-fun-dos.com/events/three-sisters/
LOCATION:Gulmohar – India Habitat Centre\, India Habitat Centre\, Hanuman Road Area\, Lodi Colony\, New Delhi\, Delhi\, 110003
CATEGORIES:Documentary
ATTACH;FMTTYPE=image/jpeg:https://delhi-fun-dos.com/wp-content/uploads/2022/10/Three-Sisters.jpg
END:VEVENT
END:VCALENDAR