BEGIN:VCALENDAR
VERSION:2.0
PRODID:-//Delhi-Fun-Dos.com - ECPv6.15.20//NONSGML v1.0//EN
CALSCALE:GREGORIAN
METHOD:PUBLISH
X-WR-CALNAME:Delhi-Fun-Dos.com
X-ORIGINAL-URL:https://delhi-fun-dos.com
X-WR-CALDESC:Events for Delhi-Fun-Dos.com
REFRESH-INTERVAL;VALUE=DURATION:PT1H
X-Robots-Tag:noindex
X-PUBLISHED-TTL:PT1H
BEGIN:VTIMEZONE
TZID:Asia/Kolkata
BEGIN:STANDARD
TZOFFSETFROM:+0530
TZOFFSETTO:+0530
TZNAME:IST
DTSTART:20210101T000000
END:STANDARD
END:VTIMEZONE
BEGIN:VEVENT
DTSTART;TZID=Asia/Kolkata:20230914T110000
DTEND;TZID=Asia/Kolkata:20230925T190000
DTSTAMP:20260421T141455
CREATED:20230624T054952Z
LAST-MODIFIED:20230628T072220Z
UID:29891-1694689200-1695668400@delhi-fun-dos.com
SUMMARY:Dastkar - Nature 2023
DESCRIPTION:Dastkar’s signature annual bazaar\, authentic crafts inspired by nature and using nature materials. \nNature Bazaar – Centre for: Crafts\, Culture\, Food\, Handmade & Natural Products \nDate: 14th to 25th Sep \nTime: 11 am to 7 pm \nVenue: Nature Bazaar venue\, Anuvrat Marg\, Kisan Haat\, Andheria Modh\, New Delhi\, 110074\nNearest metro station: Chattarpur (yellow line)
URL:https://delhi-fun-dos.com/events/dastkar-nature-2023/
LOCATION:Nature Bazaar\, Anuvrat Marg\, Kisan Haat\, Andheria Modh\, New Delhi\, Delhi\, 110074
CATEGORIES:Handicraft
ATTACH;FMTTYPE=image/jpeg:https://delhi-fun-dos.com/wp-content/uploads/2023/06/Nature-Bazaar.jpg
END:VEVENT
BEGIN:VEVENT
DTSTART;TZID=Asia/Kolkata:20230810T110000
DTEND;TZID=Asia/Kolkata:20230821T190000
DTSTAMP:20260421T141455
CREATED:20230624T055028Z
LAST-MODIFIED:20230628T072243Z
UID:29871-1691665200-1692644400@delhi-fun-dos.com
SUMMARY:Dastkar - The Monsoon Mela
DESCRIPTION:MONSOON MELA\, is an exclusively curated exhibition with more than 100 exhibitors\, showcasing a wide array of handlooms\, handicrafts\, organics\, and natural beauty products from over 13 states! A celebration marking the return of craftspeople to markets post-the monsoon season. \nYou can shop from a range of home decor and furnishing products\, lifestyle accessories\, handwoven textiles\, natural fiber crafts\, and garments at this crafts mela. Dastkar works with craftspeople from all over India and helps them bring their creations to the urban people. \nDate: 10th to 21st Aug \nTime: 11 am to 7 pm \nVenue: Nature Bazaar venue\, Anuvrat Marg\, Kisan Haat\, Andheria Modh\, New Delhi\, 110074\nNearest metro station: Chattarpur (yellow line)
URL:https://delhi-fun-dos.com/events/dastkar-the-monsoon-mela/
LOCATION:Nature Bazaar\, Anuvrat Marg\, Kisan Haat\, Andheria Modh\, New Delhi\, Delhi\, 110074
CATEGORIES:Fairs,Handicraft,Shopping
ATTACH;FMTTYPE=image/jpeg:https://delhi-fun-dos.com/wp-content/uploads/2023/06/mansoon-mela-1.jpg
END:VEVENT
BEGIN:VEVENT
DTSTART;TZID=Asia/Kolkata:20230225T103000
DTEND;TZID=Asia/Kolkata:20230228T193000
DTSTAMP:20260421T141455
CREATED:20230214T113134Z
LAST-MODIFIED:20230214T113134Z
UID:28926-1677321000-1677612600@delhi-fun-dos.com
SUMMARY:Hastshilp 2023
DESCRIPTION:Handloom and Handicraft Exhibition\, Sale and Buyers-seller Meet \nHastshilp by CSCC and Inclusivity is a platform that supports and promotes talented local artisans and small businesses from the interiors of India. This exhibition is a unique opportunity for these artists and artisans to showcase their work\, connect with potential buyers\, and traders\, and gain recognition for their unique and diverse craft offerings. \nDate: Feb 25 – 28 Feb 2023 \nTiming: 10:30 a.m. – 7:30 p.m. \nVenue: Aga Khan Hall\, New Delhi\, Bhagwan Das Road\, Pin – 110001\, \nMetro Station: Mandi House
URL:https://delhi-fun-dos.com/events/hastshilp-2023/
LOCATION:Aga Khan Hall\, Mandi House\, New Delhi\, Aga Khan Hall\, Bhagwan Das Lane\, Mandi House\, New Delhi\, Delhi\, India
CATEGORIES:Exhibition,Handicraft
ATTACH;FMTTYPE=image/jpeg:https://delhi-fun-dos.com/wp-content/uploads/2023/02/Hastshilp-2023.jpg
END:VEVENT
BEGIN:VEVENT
DTSTART;TZID=Asia/Kolkata:20230217T110000
DTEND;TZID=Asia/Kolkata:20230305T210000
DTSTAMP:20260421T141455
CREATED:20230206T044520Z
LAST-MODIFIED:20240425T072456Z
UID:28834-1676631600-1678050000@delhi-fun-dos.com
SUMMARY:Saras Aajeevika Mela
DESCRIPTION:Saras Aajeevika Mela by the Ministry of Rural Development\, Government of India is back at Noida Haat again for its 3rd edition!\nWith 300+ SHG’s Handicraft Handloom Women Artisans from 27 states\nIndia Food Court serving regional delicacies from all states of India\nDaily Cultural Performances of traditional regional Folk Dance and Music\nDates 17th February – 5th March 2023\nTimings: 11 am – 9 pm\nat Noida Haat\, Sec 33A Noida \nbehind ISKCON Temple\n#SARASmeinHUM #VocalforLocal #aatmanirbharbharat #MinistryofRuralDevelopment #NoidaHaat #Noida #India #Handicraft #Handloom #Naturalfoodproducts #OrganicFood
URL:https://delhi-fun-dos.com/events/saras-aajeevika-mela/
LOCATION:Noida Haat\, Sec 33A\, Noida (behind ISKCON Temple)\, Noida\, Uttar Pradesh\, India
CATEGORIES:Food,Handicraft
ATTACH;FMTTYPE=image/jpeg:https://delhi-fun-dos.com/wp-content/uploads/2022/10/Saras-Aajeevika-Mela-in-Gurgaon-1.jpg
END:VEVENT
BEGIN:VEVENT
DTSTART;TZID=Asia/Kolkata:20230216T110000
DTEND;TZID=Asia/Kolkata:20230227T190000
DTSTAMP:20260421T141455
CREATED:20230216T082733Z
LAST-MODIFIED:20230216T083306Z
UID:28936-1676545200-1677524400@delhi-fun-dos.com
SUMMARY:Basant 2023
DESCRIPTION:Dastkar’s Basant Bazaar is coming back in full bloom. A celebration of the onset of India’s Spring season\, this bazaar brings together a multitude of indigenous crafts\, cultures\, and cuisines from across 23 States of India.\nWitness the most authentic Indian craftsmanship at a confluence of more than 200 craft groups and craftpreneurs in one arena. Welcome this season of colors with all things handmade.\n. \nVenue: Nature Bazaar Venue\, Andheria Modh\, Anuvrat Marg New Delhi – 110074\nDates: 16th – 27th February 2023\nTimings: 11 a.m. to 7 p.m.\nEntry 40/-\nParking Available
URL:https://delhi-fun-dos.com/events/basant-2023/
LOCATION:Nature Bazaar\, Anuvrat Marg\, Kisan Haat\, Andheria Modh\, New Delhi\, Delhi\, 110074
CATEGORIES:Handicraft
ATTACH;FMTTYPE=image/jpeg:https://delhi-fun-dos.com/wp-content/uploads/2023/02/Basant-2023.jpg
END:VEVENT
BEGIN:VEVENT
DTSTART;TZID=Asia/Kolkata:20230203T100000
DTEND;TZID=Asia/Kolkata:20230219T190000
DTSTAMP:20260421T141455
CREATED:20221227T094725Z
LAST-MODIFIED:20240214T085001Z
UID:28500-1675418400-1676833200@delhi-fun-dos.com
SUMMARY:Surajkund Mela 2023
DESCRIPTION:The year 2023 will be witnessing the Surajkund Crafts Mela 2023 which will take place between 03 February 2023 – 19 February 2023. \nSurajkund Crafts Mela sees huge participation not only from artisans from various corners of India but also from many foreign countries. In fact\, in the year 2013\, the fair was upgraded to international standards and called Surajkund International Crafts Mela. Therefore\, this fair is primarily a treasure trove of all things handmade. \nLocation: Suraj Kund Rd\, Lakewood city\, Surajkund\, Faridabad\, Haryana\nNearest Metro Station: Badarpur Metro Station at a distance of nearly 4.3 kilometers from Surajkund Crafts Mela.\nHow to reach: Surajkund Crafts Mela is reachable by taking local\, Rickshaws or by hiring Taxis from Badarpur Metro Station. \n\nAlso Read: A Guide To Surajkund Craft Mela 2023 – All You Need To Know
URL:https://delhi-fun-dos.com/events/surajkund-mela-2023/
LOCATION:Suraj Kund Rd\, Lakewood city\, Surajkund\, Faridabad\, Haryana\, Suraj Kund Rd\, Lakewood city\, Surajkund\, Faridabad\,\, Haryana\, Haryana\, 121010\, India
CATEGORIES:Fairs,Handicraft,Shopping
ATTACH;FMTTYPE=image/jpeg:https://delhi-fun-dos.com/wp-content/uploads/2022/03/folk-performances-at-surajkund-fair.jpg
END:VEVENT
BEGIN:VEVENT
DTSTART;TZID=Asia/Kolkata:20221223T100000
DTEND;TZID=Asia/Kolkata:20221226T200000
DTSTAMP:20260421T141455
CREATED:20221031T094738Z
LAST-MODIFIED:20221031T094823Z
UID:27497-1671789600-1672084800@delhi-fun-dos.com
SUMMARY:Northeast Festival 2022 - Delhi
DESCRIPTION:North East Festival\, Connecting people celebrating life is an attempt to showcase and create awareness about India’s North East\, its people\, and its resources. The event has been organising annually from 2022 onwards at Jawaharlal Nehru Stadium\, Janpath\, New Delhi. Lakhs of people attended\, North East Festival was highlighted extensively in the national media and is considered one of the biggest festivals in Delhi. It has helped to attract tourism in the region and has helped in building bridges amongst the communities. North East Festival has helped in reducing social issues and has helped extensively to create a platform for North Eastern talents.
URL:https://delhi-fun-dos.com/events/northeast-festival-2022-delhi/
LOCATION:Jawaharlal Nehru Stadium\, New Delhi\, Delhi\, India
CATEGORIES:Food,Handicraft,Music
ATTACH;FMTTYPE=image/jpeg:https://delhi-fun-dos.com/wp-content/uploads/2022/10/north-east-festival.jpg
END:VEVENT
END:VCALENDAR