BEGIN:VCALENDAR
VERSION:2.0
PRODID:-//Delhi-Fun-Dos.com - ECPv6.15.20//NONSGML v1.0//EN
CALSCALE:GREGORIAN
METHOD:PUBLISH
X-ORIGINAL-URL:https://delhi-fun-dos.com
X-WR-CALDESC:Events for Delhi-Fun-Dos.com
REFRESH-INTERVAL;VALUE=DURATION:PT1H
X-Robots-Tag:noindex
X-PUBLISHED-TTL:PT1H
BEGIN:VTIMEZONE
TZID:Asia/Kolkata
BEGIN:STANDARD
TZOFFSETFROM:+0530
TZOFFSETTO:+0530
TZNAME:IST
DTSTART:20220101T000000
END:STANDARD
END:VTIMEZONE
BEGIN:VEVENT
DTSTART;TZID=Asia/Kolkata:20240202T103000
DTEND;TZID=Asia/Kolkata:20240218T203000
DTSTAMP:20260421T082804
CREATED:20240116T061427Z
LAST-MODIFIED:20240209T115302Z
UID:31747-1706869800-1708288200@delhi-fun-dos.com
SUMMARY:Surajkund Craft Mela 2024
DESCRIPTION:Surajkund Mela Authority organises the Surajkund Mela in collaboration with the Union Ministries of Tourism\, Textiles\, Culture\, External Affairs\, Department of Tourism\, Government of Haryana\, and Haryana Tourism Corporation. The dates for the 37th edition of Surajkund Crafts Mela\, 2024 have been announced. \nThe Surajkund Crafts Mela is around the corner. It is to be held from 02nd – 18th Feb 2024. The fair starts at 10.30 a.m. and is on till 8.30 p.m. \nMajor Attraction of Surajkund Craft Mela 2024 \n\nShopping at Surajkund\nSurajkund Mela 2024 Theme State – Gujarat\nFood at Surajkund Mela\nCultural Performances at Surajkund Mela\n\nDate: 02 – 18 Feb 2024\nTimings: 10.30 am and is on till 8.30 pm\nVenue: Surajkund Mela Ground in Faridabad\, Haryana \n  \n  \n 
URL:https://delhi-fun-dos.com/events/surajkund-craft-mela-2024/
LOCATION:Surajkund Mela Ground\, Sector 39\, Faridabad\, Haryana\, 121009\, India
CATEGORIES:Fairs,Food,Live Performance
ATTACH;FMTTYPE=image/jpeg:https://delhi-fun-dos.com/wp-content/uploads/2024/01/Surajkund-Craft-Mela-2024.jpg
END:VEVENT
BEGIN:VEVENT
DTSTART;VALUE=DATE:20240123
DTEND;VALUE=DATE:20240201
DTSTAMP:20260421T082804
CREATED:20240122T055156Z
LAST-MODIFIED:20240122T055519Z
UID:31919-1705968000-1706745599@delhi-fun-dos.com
SUMMARY:Bharat Parv 2024
DESCRIPTION:Ministry of Tourism is organizing Bharat Parv 2024 under the esteemed banner of ‘Dekho Apna Desh. At Red Fort\, Delhi from Jan 23-31\, 2024\, for an immersive experience of India’s cultural mosaic. \nThe Bhart Parv event will be organized by the Government of India at the Lawns and Gyan Path in front of Red Fort\, Delhi from 23rd to 31st January 2024. The highlights of Events and Festivals\, showcasing of the Republic Day Parade tableaux at the venue\, performances by the 3-Armed Forces bands (static and moving)\, cultural performances by the Zonal Cultural Centres\, as well as Cultural Troupes from States/ UTs\, Different Regional associations based in Delhi\, A pan – India Food Court with 60 food stalls and A pan – India Crafts Bazaar with 60 handicraft stalls\, Handlooms mela folk\, Tribal dance performances\, Performances by Cultural Troupes\, A Service Band Concert\, A Display of Republic Day Tableaux and An illumination of Red Fort etc. The inauguration of the “Bharat Parv” will be on 23rd January 2024 and will be open to the general public from 23rd to 31st January 2024. \nActivities\n\nDisplay of Republic Day Parade Tableaux\nStalls by State Tourism Departments\nStalls by Institutes of Hotel Management\nStalls by Food Vendors\nCooking Demonstrations\nDC Handloom and Handicrafts Live demonstration by weavers\nStalls by various Ministries of the Government of India\nExhibition by Ministry of Information and Broadcasting\nMinistry of Culture and Ministry of Ayush\nChoreographed performances by the Zonal Cultural Centre\nPerformance by States/UTs\nSpecial Performances\nPerformances by Military Bands\nDekho Apna Desh Experiential Zone\nand many more.\n\nActivity Zone\n\nNukkad Natak\nQuizzes\nPainting Competitions\nInvolvement of Tourism Yuva Tourism Club\, School/College\n\n#BharatParv2024 #DekhoApnaDesh #UnityInDiversity 🇮🇳 \nDate: 23 – 31 Jan 2024\nVenue: Red Fort Delhi\nTimings: \n\n\n\n\nDate \n\n\nOpening Time \n\n\nClosing Time \n\n\n\n\n23rd January \n\n\n08:00 p.m. \n\n\n09:00 p.m. \n\n\n\n\n24th January \n\n\n05:00 p.m. \n\n\n09:00 p.m. \n\n\n\n\n25th January \n\n\n12:00 p.m. \n\n\n03:00 p.m. \n\n\n\n\n26th January \n\n\n05:00 p.m. \n\n\n09:00 p.m. \n\n\n\n\n27th to 31st January \n\n\n12:00 p.m. \n\n\n09:00 p.m. \n\n\n\n\n  \n 
URL:https://delhi-fun-dos.com/events/bharat-parv-2024/
LOCATION:Red Fort\, Netaji Subhash Marg\, Lal Qila\, Chandni Chowk\, New Delhi\, Delhi
CATEGORIES:Fairs,Food,Free Event,Handicraft,Live Performance
ATTACH;FMTTYPE=image/jpeg:https://delhi-fun-dos.com/wp-content/uploads/2024/01/bharat-parv.jpg
END:VEVENT
BEGIN:VEVENT
DTSTART;TZID=Asia/Kolkata:20240118T113000
DTEND;TZID=Asia/Kolkata:20240121T190000
DTSTAMP:20260421T082804
CREATED:20240112T100454Z
LAST-MODIFIED:20240112T100454Z
UID:31710-1705577400-1705863600@delhi-fun-dos.com
SUMMARY:7th Edition India International Ramayana Mela 2024
DESCRIPTION:ICCR celebrates the year 2024 as the “Year of Connecting the World through Ramayana”\nDon’t miss the 7th edition of India-International Ramayana Festival\, 18-21 January 2024 from 11.30 am to 7 pm (every day) showcasing diverse art activities & performances daily! \nAll are Invited | Entry Free \nDate: 18\, 19\, 20 & 21 January\, 2024\nTime: 11.30 am to 7 pm\nVenue: Purana Qila\, Delhi
URL:https://delhi-fun-dos.com/events/7th-edition-india-international-ramayana-mela-2024/
LOCATION:Purana Qila\, Mathura Rd\, Near Delhi Zoo\, Delhi\, 110003\, India
CATEGORIES:Free Event,Live Performance
ATTACH;FMTTYPE=image/jpeg:https://delhi-fun-dos.com/wp-content/uploads/2024/01/Ramayana.jpg
END:VEVENT
BEGIN:VEVENT
DTSTART;TZID=Asia/Kolkata:20240113T110000
DTEND;TZID=Asia/Kolkata:20240114T190000
DTSTAMP:20260421T082804
CREATED:20240110T110735Z
LAST-MODIFIED:20240110T120043Z
UID:31693-1705143600-1705258800@delhi-fun-dos.com
SUMMARY:Patang Utsav
DESCRIPTION:Elevate your spirits to new heights at the Delhi Development Authority’s (DDA) Patang Utsav – International Kite Festival 2024! \nImmerse yourself in the thrill of soaring joy as kites from around the world dance in the sky. \nKey Highlights \n\nShowcasing innovative kites from India and abroad\nTheme pavilion on the history of kites\nPatang Bazaar\nTraditional food and handicraft stalls\nCultural performances by folk artists\nExclusive activities for kids\n\nCelebrate Lohri\, Makar Sankranti\, Bihu\, Pongal\, Maghi and Uttarayani with Patang Utsav \nLet the adventure take flight at this spectacular celebration! #PatangUtsav2024 #SkyboundJoy #Delhitourism \nDate: 13-14 January\, 2024 \nVenue: Baansera Bamboo Park Near Sarai Kale Khan\nNew Delhi \nEntry fee 50/- per person Free for children up to / 10 years
URL:https://delhi-fun-dos.com/events/patang-utsav/
LOCATION:Baansera Bamboo Park\, Block A\, Ganga Vihar\, Sarai Kale Khan\, New Delhi\, Delhi\, 110013
CATEGORIES:Festival,Food,Handicraft,Live Performance
ATTACH;FMTTYPE=image/jpeg:https://delhi-fun-dos.com/wp-content/uploads/2024/01/patang-utsav.jpg
END:VEVENT
BEGIN:VEVENT
DTSTART;TZID=Asia/Kolkata:20240112T173000
DTEND;TZID=Asia/Kolkata:20240114T220000
DTSTAMP:20260421T082804
CREATED:20240108T045645Z
LAST-MODIFIED:20240108T072801Z
UID:31641-1705080600-1705269600@delhi-fun-dos.com
SUMMARY:48th Poush Mela
DESCRIPTION:Poush Mela is an Annual Event of C R Park Bangiya Samaj and this year it’s scheduled on 12-14 Jan. It is one of the Biggest Event post-Durga Puja\, which is celebrated in a big way. It holds various Cultural Competitions\, Food Festival\, Cultural Programmes with Enchanting Food and handicraft Stalls\, and many more exciting events like Fashion Show\, Kids’ Drama and etc.\nWe welcome each one of you to be part of this Event….. Most Important… ENTRY FREE. \n12 Jan\, Friday\nPerformance by Students of Bharatnatyam Class Folk Fusion by –\nMs. Purbasha Mandal & Sh. Deep Chatterjee (Zee Bangla SaReGaMaPa 2022 Fame) \n13th Jan\, Saturday\nPerformance by Students of Kathak Classes Performance by Ms. Chandrika Bhattacharya (Zee Bangla SaReGaMaPa 2015 Fame)\nPerformance by Sh. Jimut Roy (Zee Bangla SaReGaMaPa 2017 Winner) \n14th Jan\, Sunday\nFashion Show by Anjali Jewellers\nPerformance by Ms. Kritwika Chakraborty (Zee Bangla SaReGaMaPa 2022 Fame)\nBangla Rock Band – Lakkhichhara \nDate: 12th-14th Jan\, 2024\nVenue: Mela Ground\, C R Park\nTimings: \nFriday – 5.45 pm to 11 pm\nSaturday & Sunday – 10 am to 11 pm \nBelow is the Evening Cultural Programme Itinerary \n\n#bengalisindelhi #delhibengali #poushmela #bengalisdelhincr #bongdelhi \n 
URL:https://delhi-fun-dos.com/events/48th-poush-mela/
LOCATION:Chittaranjan Park\, New Delhi
CATEGORIES:Festival,Food,Free Event,Handicraft,Live Performance
ATTACH;FMTTYPE=image/jpeg:https://delhi-fun-dos.com/wp-content/uploads/2024/01/48th-poush-mela.jpg
END:VEVENT
BEGIN:VEVENT
DTSTART;TZID=Asia/Kolkata:20240103T100000
DTEND;TZID=Asia/Kolkata:20240110T190000
DTSTAMP:20260421T082804
CREATED:20231226T051229Z
LAST-MODIFIED:20231227T061847Z
UID:31521-1704276000-1704913200@delhi-fun-dos.com
SUMMARY:Aatmanirbhar Bharat Utsav
DESCRIPTION:Get an immersive experience\, by celebrating the craftsmanship\, diversity\, and self-reliance of our incredible artisans. \nVISIT to treat yourself to a Mesmerizing Shopping Experience with a wide range of Textiles and handicrafts by Master Craftsmen\, Wide range of Textiles & Handicrafts by Products by Rural and Urban Self Help Groups\, Showcasing the Excellence and Diversity of Products Under the One-District-One Product Program\, The Beauty of the North East & Tribal Crafts\, PM SVANidhi Street Vendors Cuisines. \nAttractions: Regional Cuisines\, Cultural Programs \nDate: 3 Jan – 10 Jan 2024\nVenue: Halls 1-5\, Bharat Mandapam\, Pragati Maidan\nFree SHUTTLE SERVICE From India Gate to Gate No.4 \nFree Entry \n  \n 
URL:https://delhi-fun-dos.com/events/aatmanirbhar-bharat-utsav/
LOCATION:Pragati Maidan\, Delhi\, Pragati Maidan\, Delhi\, Delhi\, India
CATEGORIES:Food,Free Event,Live Performance
ATTACH;FMTTYPE=image/jpeg:https://delhi-fun-dos.com/wp-content/uploads/2023/12/Aatmanirbhar-Bharat-Utsav-1.jpg
END:VEVENT
BEGIN:VEVENT
DTSTART;TZID=Asia/Kolkata:20231215T193000
DTEND;TZID=Asia/Kolkata:20231215T213000
DTSTAMP:20260421T082804
CREATED:20231127T072546Z
LAST-MODIFIED:20231128T070125Z
UID:31207-1702668600-1702675800@delhi-fun-dos.com
SUMMARY:A Nostalgic Christmas
DESCRIPTION:The Capital City Minstrels presents A Nostalgic Christmas \nCome celebrate the season with us with an evening of holiday music – from Mariah Carey’s “All I Want for Christmas” to Frank Sinatra’s “Fly me to the moon”\, George Michael’s “Last Christmas”\, traditional carols\, and other festive favorites \nPasses for the show on December 15th are now available on BookMyShow \nConductor\nNadezda Balyan \nPianist\nNise Meruno \nFlautist\nNathalie Ramirez \nPercussionist\nNitesh Chandelkar \nDate & Time: Friday\, December 15\, 2023\, 7:30 pm \nVenue: Kamani Auditorium\, Copernicus Marg\, New Delhi \n 
URL:https://delhi-fun-dos.com/events/a-nostalgic-christmas/
LOCATION:Kamani Auditorium\, Copernicus Marg\, Mandi House\, New Delhi\, Delhi\, 110001
CATEGORIES:Live Performance,Music
ATTACH;FMTTYPE=image/jpeg:https://delhi-fun-dos.com/wp-content/uploads/2023/11/a-Nostalgic-christmas.jpg
END:VEVENT
BEGIN:VEVENT
DTSTART;TZID=Asia/Kolkata:20231124T110000
DTEND;TZID=Asia/Kolkata:20231126T170000
DTSTAMP:20260421T082804
CREATED:20231110T043417Z
LAST-MODIFIED:20231110T043735Z
UID:30688-1700823600-1701018000@delhi-fun-dos.com
SUMMARY:IHC Samanvay 2023
DESCRIPTION:From 24th to 26th November 2023 for our literature festival IHC Samanvay: Celebrating Indian Languages\, which returns with themes ranging from Food\, History\, The Body\, Sexuality\, and Rivers. \nWe are all set to bring you conversations\, speakers\, books\, and performances in multiple languages and voices from across the country. \n\nBooks\nSpeakers\nConversations\nPerformances\n\nDate & Time: Nov 24-26\, 2023\, 11:00 am onwards\nVenue: Amphitheatre\, IHC\nOpen to all and Entry free
URL:https://delhi-fun-dos.com/events/ihc-samanvay-2023/
LOCATION:Amphitheatre\, India Habitat Centre\, Lodhi Road\, New Delhi\, Delhi\, 110003
CATEGORIES:Art & Literature,Live Performance,Talks
ATTACH;FMTTYPE=image/jpeg:https://delhi-fun-dos.com/wp-content/uploads/2023/11/samanvay-2023.jpg
END:VEVENT
BEGIN:VEVENT
DTSTART;TZID=Asia/Kolkata:20231118T183000
DTEND;TZID=Asia/Kolkata:20231119T213000
DTSTAMP:20260421T082804
CREATED:20231116T043141Z
LAST-MODIFIED:20231116T043141Z
UID:30701-1700332200-1700429400@delhi-fun-dos.com
SUMMARY:North East Cultural Festival
DESCRIPTION:This festival organized by Delhi Tourism Department is going to be a unique and enjoyable event for all the people of Delhi. In this event\, the historical culture of the rich north-eastern states of India will be in harmony with the culture of the world-famous city of Delhi and as a result\, a new joint cultural heritage will expand in Delhi and at the same time\, a new dimension will be created in terms of cultural preservation and promotion. Will be established. This ‘North East Cultural Festival’ will prove to be an important step in keeping our culture alive. So come and enjoy this golden opportunity to get lost in the waves of north eastern cultural pride. \nPerformances of Renowned Bands/ Orchestra of North East States of India \nDate: 18th-19th November\, 2023 \nVenue: Central Park\, Connaught Place\, Delhi \nTimings: 6:30 PM to 9:30 PM \nEntry free
URL:https://delhi-fun-dos.com/events/north-east-cultural-festival/
LOCATION:Central Park\, Connaught Place\, Rajiv Chowk\, Connaught Place\, New Delhi\, Delhi\, 110001
CATEGORIES:Live Performance,Music
ATTACH;FMTTYPE=image/jpeg:https://delhi-fun-dos.com/wp-content/uploads/2023/11/north-east-cultural-festival.jpg
END:VEVENT
BEGIN:VEVENT
DTSTART;VALUE=DATE:20231023
DTEND;VALUE=DATE:20231105
DTSTAMP:20260421T082804
CREATED:20231027T051148Z
LAST-MODIFIED:20231027T052237Z
UID:30587-1698019200-1699142399@delhi-fun-dos.com
SUMMARY:Gujarat Hastkala Utsav 2023
DESCRIPTION:Gujarat Hastkala Utsav 2023\nBringing Together the Unique Crafts of Gujarat. \nPatola | Kutchi Weaving | Tangaliya | Bandhani | Suf Work | Agate | Leather Work | Terracotta | Applique Work | Ajarakh | Batik and a lot more \nWith the live demo of Bamboo Craft\, Mata Ni Pachhedi\, Warli Painting\, and Wood Carving \nDates: 23 Oct 2023 to 4 Nov 2023 \nGARBA GROOVE NIGHT\n27 Oct 2023 – 28 Oct 2023 \nVENUE: Dilli Haat Janakpuri\nLal Sain Mandir Marg\, opposite Virender Nagar\, Janakpuri\, New Delhi\, Delhi\, 110058
URL:https://delhi-fun-dos.com/events/gujarat-hastkala-utsav-2023/
LOCATION:Dilli Haat\, Janakpuri\, Lal Sain Mandir Marg\, Virender Nagar\, Janakpuri\, New Delhi\, Delhi\, 110058\, India
CATEGORIES:Dance,Handicraft,Live Performance
ATTACH;FMTTYPE=image/jpeg:https://delhi-fun-dos.com/wp-content/uploads/2022/09/handloom.jpg
END:VEVENT
BEGIN:VEVENT
DTSTART;VALUE=DATE:20231020
DTEND;VALUE=DATE:20231025
DTSTAMP:20260421T082804
CREATED:20231013T102409Z
LAST-MODIFIED:20231013T102434Z
UID:30461-1697760000-1698191999@delhi-fun-dos.com
SUMMARY:TV9 Festival of India
DESCRIPTION:Organiser: TV9 Network \nEvent Summary: \n\n120+ LIFESTYLE & SHOPPING STALLS\nEXHIBITS FROM ITALY\, TURKEY\, IRAN\, AFGHANISTAN\, THAILAND & MORE\nMULTI-CUISINE FOOD\nMUSIC & ENTERTAINMENT\n20+ LIVE PERFORMANCES & ARTISANS FROM ACROSS INDIA\nDURGA PUJA LIVE DARSHAN WITH TALLEST MURTI\n\nDates: 20th to 24th October 2023 \nTime: 10 am onwards \nVenue: Major Dhyan Chand National Stadium\, \nIndia Gate Circle\, New Delhi
URL:https://delhi-fun-dos.com/events/tv9-festival-of-india/
LOCATION:Major Dhyan Chand Stadium\, India Gate\, India Gate\, New Delhi\, Delhi\, India
CATEGORIES:Food,Live Performance
ATTACH;FMTTYPE=image/jpeg:https://delhi-fun-dos.com/wp-content/uploads/2023/10/TV9-Festival-of-India.jpg
END:VEVENT
BEGIN:VEVENT
DTSTART;TZID=Asia/Kolkata:20230522T183000
DTEND;TZID=Asia/Kolkata:20230522T203000
DTSTAMP:20260421T082804
CREATED:20230512T104209Z
LAST-MODIFIED:20230512T104209Z
UID:29523-1684780200-1684787400@delhi-fun-dos.com
SUMMARY:Rakugo
DESCRIPTION:Presented by Katsura Sunshine\, a well-known traditional Japanese rakugo artist from Canada\nRakugo storytelling is a 400-year-old Japanese comedic art form. Dating back to the 17th century and originating from the Buddhist tradition\, rakugo experienced its heyday in the Meiji era (1868-1912) when it adopted its current form and left the streets and private apartments for performance venues. The storyteller\, rakugoka\, alone on stage\, kneels on a cushion and does not move from this position throughout the performance. With no backdrop or music\, the rakugo artist uses only his facial expressions\, changes in intonation\, and props to bring humourous stories to life\nKatsura Sunshine studied this traditional and unique form of verbal entertainment in Japan as an apprentice to rakugo master Katsura Bunshi VI\, then Katsura Sanshi for another three years. He is only the second Westerner to become a rakugo master in Japan’s history.\n(Collaboration: The Japan Foundation\, New Delhi) \nProgramme Type Cultural\nVenue C.D. Deshmukh Auditorium\, \n\n\nIndia International Centre main building\n\nDate & Time: 22 May 2023\, 06:30 pm
URL:https://delhi-fun-dos.com/events/rakugo/
LOCATION:India International Centre\, 40\, Max Mueller Marg\, Lodhi Gardens\, Lodhi Estate\, New Delhi\, Delhi\, 110003\, India
CATEGORIES:Live Performance
ATTACH;FMTTYPE=image/jpeg:https://delhi-fun-dos.com/wp-content/uploads/2023/05/rakugo.jpg
END:VEVENT
BEGIN:VEVENT
DTSTART;TZID=Asia/Kolkata:20230517T180000
DTEND;TZID=Asia/Kolkata:20230517T200000
DTSTAMP:20260421T082804
CREATED:20230512T102335Z
LAST-MODIFIED:20230512T104313Z
UID:29518-1684346400-1684353600@delhi-fun-dos.com
SUMMARY:IIIC Double Bill Music and Dance Recitals
DESCRIPTION:Violin Recital\nBy Uma Arun from Delhi\, a disciple of Guru Kalaimamani Shri V.S.K.Chakrapani and Guru R. SridharAt 19:00\nBharatanatyam Recital\nBy Sudhana Shankar from Delhi\, a disciple of Guru Saroja Vaidyanathan and Rama Vaidyanathan \nProgramme Type Cultural\nVenue C.D. Deshmukh Auditorium\, India International Centre main building \nDate & Time: 17 May 2023\, 06:00 pm
URL:https://delhi-fun-dos.com/events/iiic-double-bill-music-and-dance-recitals/
LOCATION:India International Centre\, 40\, Max Mueller Marg\, Lodhi Gardens\, Lodhi Estate\, New Delhi\, Delhi\, 110003\, India
CATEGORIES:Live Performance
ATTACH;FMTTYPE=image/jpeg:https://delhi-fun-dos.com/wp-content/uploads/2023/05/Bharatanatyam-Recital-Sudhana-Shankar.jpg
END:VEVENT
BEGIN:VEVENT
DTSTART;TZID=Asia/Kolkata:20230401T110000
DTEND;TZID=Asia/Kolkata:20230402T220000
DTSTAMP:20260421T082804
CREATED:20230317T041659Z
LAST-MODIFIED:20230317T064448Z
UID:29065-1680346800-1680472800@delhi-fun-dos.com
SUMMARY:The Grub Fest - New Delhi
DESCRIPTION:Here’s your weekend schedule\, New Delhi! Two days packed with the best music at the Grub Arena\, only at The Grub Fest! \nThe perfect concoction of food\, music\, and people\, it is the most-awaited weekend in Delhi each year. Promising to be even better and bigger than the last\, The Grub Fest promises an unforgettable experience for foodies and music lovers alike. \nOn 1st April 2023 – Delhiiiiii\, get ready to fly high into the sky as Paradox takes the stage at Grub Delhi to drop some sick hip-hop beats \nArmaan Malik is coming to The Grub Fest! Catch your favorite tunes live and get ready to sing your heart out as he takes the stage on 2nd April 2023 \nFestivals\, Food\, and Drinks \non the Sat 01 Apr 2023 – Sun 02 Apr 2023 \nVenue: JLN Stadium\, Gate No. 14: Delhi \n#foodfestival #foodtrucks#foodphotography #instafoodie#eatingforinsta #musicforsoul#localeats #strugglplate#weekendgoals #thegrubfest #india#delhi #comingsoon #tasty#weekend #india #ice #drinks#getgrubbed #hiphopmusic #musicconcert #delhifood #delhifoodies #delhievents #foodfest #livemusic#tableforeveryone
URL:https://delhi-fun-dos.com/events/the-grub-fest-new-delhi-2/
LOCATION:Jawaharlal Nehru Stadium\, New Delhi\, Delhi\, India
CATEGORIES:Live Performance
ATTACH;FMTTYPE=image/jpeg:https://delhi-fun-dos.com/wp-content/uploads/2023/03/The-Grub-Fest.jpg
END:VEVENT
BEGIN:VEVENT
DTSTART;TZID=Asia/Kolkata:20230401T080000
DTEND;TZID=Asia/Kolkata:20230402T170000
DTSTAMP:20260421T082804
CREATED:20230331T041822Z
LAST-MODIFIED:20230331T041822Z
UID:29218-1680336000-1680454800@delhi-fun-dos.com
SUMMARY:Vibin Festival - Delhi
DESCRIPTION:Vibin Festival Is India’s Largest Gen-Next Festival Produced By TribeVibe and curated by TribeCampusProgram.\nVibin’ is a 2-day extravaganza with 50+ top artists across genres in music and comedy\, food\, street culture fashion\, and technology \n  \nDay 1 1st Apr \n\nPrateek Kuhad\nKapow!\nSalman Elahi\nYahya Bootwala\nYashraj\n\nDay 2 2nd Apr \n\nZakir Khan\nAkasa\nDino James\nLost Stories\nRaga\nSuzonn
URL:https://delhi-fun-dos.com/events/vibin-festival-delhi/
LOCATION:Polo Ground Delhi University\, Police Ground\, Kingsway Camp\, GTB Nagar\, New Delhi\, Delhi\, 110009
CATEGORIES:Food,Live Performance,Music
ATTACH;FMTTYPE=image/jpeg:https://delhi-fun-dos.com/wp-content/uploads/2023/03/vibin-festival-delhi.jpg
END:VEVENT
BEGIN:VEVENT
DTSTART;TZID=Asia/Kolkata:20230331T120000
DTEND;TZID=Asia/Kolkata:20230402T220000
DTSTAMP:20260421T082804
CREATED:20230317T042512Z
LAST-MODIFIED:20230317T043025Z
UID:29068-1680264000-1680472800@delhi-fun-dos.com
SUMMARY:Horn OK Please
DESCRIPTION:Horn OK Please is not just a fest; it’s a feeling\, an emotion\, a vibe!\nIt is ‘the’ place to be when you want a one-stop festival for mouth-watering food\, artisanal drinks\, a dash of shopping\, soul-gripping performances\, and exciting activities! 🤩🔥 \nHorn OK Please – The Happiest Food Festival is a friends & family event where you’ll have SO many awesome things to bond over! \nHorn OK Please is India’s Largest celebration of Food & Drinks – catering to over 1 Lakh food lovers for 3 days. With a curated lineup of food vendors\, bars\, and artist performances\,  be part of HOP’s 10th edition this March. 200+ top restaurants and traders across the city. All in all\, we aim to bring you the best crowd & entertainment at your doorstep. \nWhen: 31st March’23 – 2nd April’23\nWhere: JLN Stadium Gate No. 2\nTimings: 12 PM – 10 PM \n#hornokplease #hornokpleasefest #hop #delhievents #Delhi \n 
URL:https://delhi-fun-dos.com/events/horn-ok-please/
LOCATION:Jawaharlal Nehru Stadium\, New Delhi\, Delhi\, India
CATEGORIES:Food,Live Performance
ATTACH;FMTTYPE=image/jpeg:https://delhi-fun-dos.com/wp-content/uploads/2023/03/horn-ok-please.jpg
END:VEVENT
BEGIN:VEVENT
DTSTART;TZID=Asia/Kolkata:20230324T080000
DTEND;TZID=Asia/Kolkata:20230326T170000
DTSTAMP:20260421T082804
CREATED:20230304T045325Z
LAST-MODIFIED:20230304T045354Z
UID:28997-1679644800-1679850000@delhi-fun-dos.com
SUMMARY:Odisha Parba
DESCRIPTION:New Delhi Odia Samaj brings you a chance of a lifetime… \n#OdishaParba Is Back With a Bang! Get Ready To Witness The Splendor of 6th Edition #OdishaParba2023🤩 \nOdisha’s glorious heritage and culture will come alive in the heart of Delhi at the Jawaharlal Nehru Stadium from 24-26 March 2023 🤩 \n𝘾𝙪𝙩𝙩𝙖𝙘𝙠 𝙛𝙖𝙢𝙤𝙪𝙨 𝘾𝙝𝙖𝙩𝙥𝙖𝙩𝙖 𝙁𝙞𝙣𝙜𝙚𝙧 𝙡𝙞𝙘𝙠𝙞𝙣𝙜 𝙨𝙩𝙧𝙚𝙚𝙩 𝙛𝙤𝙤𝙙𝙨👌 only at #OdishaParba2023 \n24-26 MARCH\, 2023 | JAWAHARLAL NEHRU STADIUM\, NEW DELHI \n#OdishaParba2023 #NewDelhiOdiaSamaj #MyOdisha #SpiritOfOdisha #Odisha #OdiaSamaj #NewDelhi #NewDelhiOdiaSamaj #OdishaParba
URL:https://delhi-fun-dos.com/events/odisha-parba/
LOCATION:Jawaharlal Nehru Stadium\, New Delhi\, Delhi\, India
CATEGORIES:Festival,Food,Live Performance
ATTACH;FMTTYPE=image/jpeg:https://delhi-fun-dos.com/wp-content/uploads/2023/03/Odisha-Parba.jpg
END:VEVENT
BEGIN:VEVENT
DTSTART;TZID=Asia/Kolkata:20230211T160000
DTEND;TZID=Asia/Kolkata:20230212T200000
DTSTAMP:20260421T082804
CREATED:20230123T060834Z
LAST-MODIFIED:20230208T064630Z
UID:28720-1676131200-1676232000@delhi-fun-dos.com
SUMMARY:Weekend Cultural Show
DESCRIPTION:Highlights: \n\nBand Performance\nGhazal Performance\nPunjabi Folk Dance\nRajasthani Folk Dance\nSufi Qawwali\nClassical Dance (Kathak)\nPerformance By North East\nRegional Folk Dance\n\n(Every Saturday and Sunday)\n4:00 P.M. To Onwards\nVenue: Dilli Haat Janak Puri\, Opp. Virender Nagar\, New Delhi-110058
URL:https://delhi-fun-dos.com/events/weekend-cultural-show/
LOCATION:Dilli Haat\, Janakpuri\, Lal Sain Mandir Marg\, Virender Nagar\, Janakpuri\, New Delhi\, Delhi\, 110058\, India
CATEGORIES:Food,Live Performance,Music,Shopping
ATTACH;FMTTYPE=image/jpeg:https://delhi-fun-dos.com/wp-content/uploads/2023/01/weekend-cultural-show.jpg
END:VEVENT
END:VCALENDAR