BEGIN:VCALENDAR
VERSION:2.0
PRODID:-//Delhi-Fun-Dos.com - ECPv6.15.20//NONSGML v1.0//EN
CALSCALE:GREGORIAN
METHOD:PUBLISH
X-WR-CALNAME:Delhi-Fun-Dos.com
X-ORIGINAL-URL:https://delhi-fun-dos.com
X-WR-CALDESC:Events for Delhi-Fun-Dos.com
REFRESH-INTERVAL;VALUE=DURATION:PT1H
X-Robots-Tag:noindex
X-PUBLISHED-TTL:PT1H
BEGIN:VTIMEZONE
TZID:Asia/Kolkata
BEGIN:STANDARD
TZOFFSETFROM:+0530
TZOFFSETTO:+0530
TZNAME:IST
DTSTART:20210101T000000
END:STANDARD
END:VTIMEZONE
BEGIN:VEVENT
DTSTART;TZID=Asia/Kolkata:20250818T183000
DTEND;TZID=Asia/Kolkata:20250818T210000
DTSTAMP:20260421T124200
CREATED:20250806T074546Z
LAST-MODIFIED:20250806T074546Z
UID:36722-1755541800-1755550800@delhi-fun-dos.com
SUMMARY:Songs of Hawkers – A Street Symphony of Laughter & Life!
DESCRIPTION:Experience a unique blend of comedy\, music\, dance\, and puppetry with Songs of Hawkers\, a theatrical comedy inspired by the vibrant lives of street hawkers. \nPresented by Théâtre en Tête\, this three-part English play directed by Zazie Hayoun draws inspiration from the French Grand Guignol tradition\, delivering bold satire and compelling performances that reflect everyday street life with humour and heart. \nDate: 18th August 2025Time: 6:30 PMVenue: Abhimanch Auditorium\, National School of Drama\, Mandi House\, New DelhiText & Direction: Zazie HayounFree Entry | Open to All | Seating on a First-Come\, First-Served Basis \nCome witness a comic spectacle where the ordinary becomes extraordinary!
URL:https://delhi-fun-dos.com/events/songs-of-hawkers-a-street-symphony-of-laughter-life/
LOCATION:Abhimanch Auditorium\, Bhagwan Das Lane\, Mandi House\, New Delhi\, Delhi
CATEGORIES:Dance,Music,Puppetry
ATTACH;FMTTYPE=image/png:https://delhi-fun-dos.com/wp-content/uploads/2025/08/Songs-of-Hawkers-–-A-Street-Symphony-of-Laughter-Life.png
END:VEVENT
BEGIN:VEVENT
DTSTART;VALUE=DATE:20240216
DTEND;VALUE=DATE:20240226
DTSTAMP:20260421T124200
CREATED:20240130T113110Z
LAST-MODIFIED:20240130T113133Z
UID:32050-1708041600-1708905599@delhi-fun-dos.com
SUMMARY:The Ishara International Puppet Theatre
DESCRIPTION:The Ishara International Puppet Theatre Festival is set to captivate audiences once again with its 20th edition. The festival is scheduled to run from 16th to 25th February 2024 at the India Habitat Centre in New Delhi and Tagore Theatre in Chandigarh. It is produced by Teamwork Arts and is largely supported by the Ishara Puppet Theatre Trust. Since 2001\, the Ishara International Puppet Theatre Festival has entertained audiences with artists\, puppeteers\, and performers from around the globe. The 20th edition is set to offer an intriguing line-up that will appeal to all age groups. In addition to Indian artists\, the festival will feature performers from Brazil\, Spain\, Korea\, Turkey\, the USA\, Sri Lanka\, Taiwan and Russia. The festival will include both verbal and non-verbal performances. \nAt the festival\, France will present Wings And Roots\, an evocative performance by Fanny Tissot-Giordanna/Compagnie Arketal from National Theatre Nice. Directed by Sylvie Osman\, it imparts profound lessons in humanity. \nThe musical menagerie Air Giants by Pia Fraus is directed by Beto Andretta from Brazil. A Brazilian circus spectacle featuring larger-than-life animals\, whimsical characters\, and unique performers promises people of all ages an opportunity to stay all day at this ‘open-air’ circus. \nFrom the USA\, The Kurt Hunter Marionettes will be presenting a performance entitled Penguin In My Pocket\, directed by Laura Wilhelm. The show is a musical and visual delight for all ages. This performance will highlight the importance of imagination in both the sciences and the arts. It is a one-of-a-kind show which will feature marionettes\, rod puppets\, audience member puppeteers\, and even live concertina music. \nRussia’s most famous puppet character will be brought back to life with a celebration of 400 years of tradition. Petrushka\, performed by Novosibirsk Regional Puppet Theatre and directed by Svyatoslav Pankov\, is a traditional performance that unfolds as short comic vignettes\, filled with colourful puppets and foot-tapping music. \nHiss & Arf is a non-verbal performance from Taiwan\, presented by Puppet On The Workbench and directed by Mong-Han Liang / Chia-Hao Chen. This delightful show seamlessly blends comedy\, wit\, and bravura\, showcasing traditional Taiwanese glove puppetry techniques. It portrays heartwarming and humorous adventures between an owner and his pets. \nSevincer Puppet Theatre from Turkey will showcase Mucit (Inventor)\, which is directed by Yalcin Gonenc. Mucit will inspire kids of all ages to dream not just about a career\, but also the kind of person they want to grow up to be. \nA captivating journey into Sri Lanka’s rich cultural tapestry awaits you with the Traditional String Puppet Show performed by Mango Friends Puppet Society\, directed by Indika Gamini. This visually stunning spectacle promises audiences an unforgettable experience. Colourful puppets of diverse shapes and sizes\, accompanied by dance and music\, harmoniously pay homage to Sri Lanka’s vibrant past and present\, ensuring a celebration of grandeur and tradition. In addition to this\, Culture Art Bakery FFWANG from Korea will present Hong Dongji & Isimi\, directed by Hwang Seokyong\, and Trapusteros Teatro from Brazil will captivate the audience with Mamulengo De La Mancha directed by Izabela Brochado. \nThe Ishara Puppet Theatre Group will present Be Yourself\, directed by Dadi D. Pudumjee—an adaptation of Hans Christian Anderson’s The Ugly Duckling. This enchanting puppet play is a delightful and moving experience\, weaving a timeless tale with a touch of magic. Each animal puppet character will wear textiles from various regions of India\, beautifully illustrating the rich diversity of Indian weavers. \nMore than a hundred international puppetry groups have already performed at the festival. The list includes the USA\, Belgium\, Italy\, Germany\, Switzerland\, Spain\, Turkey\, Brazil\, Sri Lanka\, Indonesia\, Taiwan\, Japan\, Afghanistan\, Sweden\, Norway\, Israel\, Ireland\, Iran\, Australia\, Netherlands\, Hungary\, and South Korea. \nEach year\, audiences from all around the world attend the festival to see both classic and new types of puppetry. The festival is distinguished by its versatility\, which includes rod and string puppets as well as mixed performances incorporating dance\, drama\, music\, and other elements. The Ishara International Puppet Festival has delighted\, educated\, and empowered both children and adults over the years with award-winning puppetry productions and educational workshops. The festival promises a delightful blend of artistic innovation\, cultural richness\, and puppetry excellence. \nThe festival is scheduled to run from 16th to 25th February 2024 at the India Habitat Centre in New Delhi
URL:https://delhi-fun-dos.com/events/the-ishara-international-puppet-theatre/
LOCATION:India Habitat Centre New Delhi\, Lodhi Road\, Near Sai Mandir\, Delhi\, 110003\, India
CATEGORIES:Puppetry
ATTACH;FMTTYPE=image/jpeg:https://delhi-fun-dos.com/wp-content/uploads/2024/01/Ishara-International-Puppet-Theatre-Festival-Hissand-Taiwan.jpg
END:VEVENT
BEGIN:VEVENT
DTSTART;TZID=Asia/Kolkata:20220815T120000
DTEND;TZID=Asia/Kolkata:20220815T170000
DTSTAMP:20260421T124200
CREATED:20220805T091948Z
LAST-MODIFIED:20220805T093048Z
UID:26148-1660564800-1660582800@delhi-fun-dos.com
SUMMARY:PUPPET SHOW - Little Blue Planet
DESCRIPTION:Image source: miriamsherwood.com \nSpecial Celebration for 75 years of Independence\nThe show is a journey of a little blue planet earth\, which in the show is literally a little child\, called Erthu\, from birth to early childhood\, playing with clay to make birds\, animals\, and forests. And finally\, the little Erthu makes a human! The human starts to cut trees\, makes factories and cities. The little blue planet starts to fall sick\, choke\, and suddenly gets transformed into a dying old man. Now it is all in the hands of the humans to save or destroy the ‘Little Blue Planet’. Suitable for 6+ years. Entry by registration only. \nDir.Anurupa Roy.  Prod.Katkatha Puppet Trust. \nTimings : 12 noon (non-verbal/35mins) IHC
URL:https://delhi-fun-dos.com/events/puppet-show-little-blue-planet/
LOCATION:India Habitat Centre New Delhi\, Lodhi Road\, Near Sai Mandir\, Delhi\, 110003\, India
CATEGORIES:Free Event,Puppetry
ATTACH;FMTTYPE=image/jpeg:https://delhi-fun-dos.com/wp-content/uploads/2022/08/little-blue-planet.jpg
END:VEVENT
END:VCALENDAR