BEGIN:VCALENDAR
VERSION:2.0
PRODID:-//Delhi-Fun-Dos.com - ECPv6.15.20//NONSGML v1.0//EN
CALSCALE:GREGORIAN
METHOD:PUBLISH
X-ORIGINAL-URL:https://delhi-fun-dos.com
X-WR-CALDESC:Events for Delhi-Fun-Dos.com
REFRESH-INTERVAL;VALUE=DURATION:PT1H
X-Robots-Tag:noindex
X-PUBLISHED-TTL:PT1H
BEGIN:VTIMEZONE
TZID:Asia/Kolkata
BEGIN:STANDARD
TZOFFSETFROM:+0530
TZOFFSETTO:+0530
TZNAME:IST
DTSTART:20220101T000000
END:STANDARD
END:VTIMEZONE
BEGIN:VEVENT
DTSTART;TZID=Asia/Kolkata:20240614T183000
DTEND;TZID=Asia/Kolkata:20240614T203000
DTSTAMP:20260421T140254
CREATED:20240608T091504Z
LAST-MODIFIED:20240608T092535Z
UID:33300-1718389800-1718397000@delhi-fun-dos.com
SUMMARY:Gandhi Must Fall: The Dilemmas of Being Turned into Statue
DESCRIPTION:Speaker: Sumathi Ramaswamy\, James B. Duke Distinguished Professor of History\, Duke University who has published on language politics\, gender studies\, spatial studies and the history of cartography\, visual studies and the modern history of art\, and more recently\, digital humanities and the history of philanthropy. Her recent writings on Gandhi include Gandhi in the Gallery: The Art of Disobedience (New Delhi: Roli Books\, 2022) and the digital project B is for Bapu: Gandhi in the Art of the Child in Modern India\nUsing a material culture approach\, the lecture reflects on the overwhelming penchant for the creation of statues of Gandhi\, the most among India’s political leaders to be so “honoured” both at home and overseas\, where many a statue has been installed as the official government gift. It is worth reflecting on this phenomenon at a time when across the world\, because of varying projects for critically reckoning with difficult inherited pasts\, statues of (big) men are being defaced. How might Gandhi respond to such acts\, especially since his statue is increasingly vulnerable as well.\n \n(Collaboration: American Institute of Indian Studies) \nDate & Time: 14 June 2024\, 06:30 pm\nVenue: IIC
URL:https://delhi-fun-dos.com/events/gandhi-must-fall-the-dilemmas-of-being-turned-into-statue/
LOCATION:IIC – India International Centre\, 40\, Max Mueller Marg\, Lodhi Gardens\, Lodhi Estate\, New Delhi\, Delhi
CATEGORIES:Talks
ATTACH;FMTTYPE=image/jpeg:https://delhi-fun-dos.com/wp-content/uploads/2024/06/Gandhi-Must-Fall.jpg
END:VEVENT
BEGIN:VEVENT
DTSTART;TZID=Asia/Kolkata:20240601T190000
DTEND;TZID=Asia/Kolkata:20240601T203000
DTSTAMP:20260421T140254
CREATED:20240520T112353Z
LAST-MODIFIED:20240520T112641Z
UID:33170-1717268400-1717273800@delhi-fun-dos.com
SUMMARY:वार्तालाप - Cultural Conversations
DESCRIPTION:Art Tree and Museo Camera present वार्तालाप cultural conversations An insight into the life and times of the Tawaifs. \nRita Ganguly (SPEAKER)\n Muzaffar Ali (SPEAKER)\nDr. Arshiya Sethi (MODERATOR) \nDate & Time: 1st JUNE 7:00 PM\nVenue: Museo Camera\, Gurugram \nFree and Open to All\, Seating on First Come First Serve Basis
URL:https://delhi-fun-dos.com/events/%e0%a4%b5%e0%a4%be%e0%a4%b0%e0%a5%8d%e0%a4%a4%e0%a4%be%e0%a4%b2%e0%a4%be%e0%a4%aa-cultural-conversations/
LOCATION:Museo Camera\, Shri Ganesh Mandir Marg\, DLF Phase IV\, Sector 28\,\, Gurugram\, Haryana\, 122002
CATEGORIES:Free Event,Talks
ATTACH;FMTTYPE=image/jpeg:https://delhi-fun-dos.com/wp-content/uploads/2024/05/vartalap.jpg
END:VEVENT
BEGIN:VEVENT
DTSTART;TZID=Asia/Kolkata:20240531T190000
DTEND;TZID=Asia/Kolkata:20240531T203000
DTSTAMP:20260421T140254
CREATED:20240528T051117Z
LAST-MODIFIED:20240528T051117Z
UID:33209-1717182000-1717187400@delhi-fun-dos.com
SUMMARY:Dramatised Reading: Park
DESCRIPTION:Dramatized Reading. Young Talents’ Night. Manav Kaul’s  Park. A presentation of the playwright’s wry and witty take on the demand for space in a physically and metaphorically shrinking world. A Walking Art presentation conceived and directed by Sohaila Kapur. Produced by Anuradha Dar. A Three Arts Club & Katyayani production. \nDate & Time: 31 May\, 7:00 pm\nVenue: The Theatre IHC
URL:https://delhi-fun-dos.com/events/dramatised-reading-park/
LOCATION:The Theatre\, India Habitat Centre\, Institutional Area\, Lodi Colony\, New Delhi\, Delhi\, 110003\, India
CATEGORIES:Talks
ATTACH;FMTTYPE=image/jpeg:https://delhi-fun-dos.com/wp-content/uploads/2024/05/The-Park-Dramatised-Reading.jpg
END:VEVENT
BEGIN:VEVENT
DTSTART;TZID=Asia/Kolkata:20240527T190000
DTEND;TZID=Asia/Kolkata:20240527T203000
DTSTAMP:20260421T140254
CREATED:20240528T051742Z
LAST-MODIFIED:20240528T051742Z
UID:33215-1716836400-1716841800@delhi-fun-dos.com
SUMMARY:Mere SPIC MACAY Din
DESCRIPTION:“Mere SPIC MACAY Din” by Ashok Jamnani. Starting out as a volunteer for SPIC MACAY in Hoshangabad\, in Madhya Pradesh\, Ashok Jamnani remained very active with the organisation for over twenty-five years. Along with narrating his experiences as a volunteer\, his memoir is an in-depth study of Indian culture\, underlining the changes that have taken place in the art world after economic liberalisation. A documentation of one of the most important cultural movements of our times\, covering the depth of the Indian art world and connecting the diversity of Indian culture with the youth. Book launch by Dr. Kiran Seth\, Founder\, SPIC MACAY. \nDate & Time: 27 May\, 7:00 pm\nVenue: Gulmohar
URL:https://delhi-fun-dos.com/events/mere-spic-macay-din/
LOCATION:Gulmohar – India Habitat Centre\, India Habitat Centre\, Hanuman Road Area\, Lodi Colony\, New Delhi\, Delhi\, 110003
CATEGORIES:Talks
ATTACH;FMTTYPE=image/jpeg:https://delhi-fun-dos.com/wp-content/uploads/2024/05/Mere-SPIC-MACAY-Din.jpg
END:VEVENT
BEGIN:VEVENT
DTSTART;TZID=Asia/Kolkata:20240316T160000
DTEND;TZID=Asia/Kolkata:20240316T190000
DTSTAMP:20260421T140254
CREATED:20240307T110227Z
LAST-MODIFIED:20240307T110406Z
UID:32619-1710604800-1710615600@delhi-fun-dos.com
SUMMARY:Suitable Conversations at Sunder Nursery
DESCRIPTION:The next session of Suitable Conversations at Sunder Nursery featuring conversationalists Arati Kumar-Rao and Neha Sinha on ‘Vanishing Landscapes’ \nArati Kumar-Rao\, a BBC 100 Influential Women awardee\, is an independent photographer\, writer\, and National Geographic Explorer documenting the environmental crisis in South Asia\, highlighting habitat destruction and biodiversity loss. She is the author of the acclaimed ‘Marginlands: Indian Landscapes On The Brink‘. \nNeha Sinha\, a conservation biologist and author\, is known for her work on Amur falcon conservation\, environmental policy\, and wetlands. She is an INLAKS scholar\, and her debut book\, ‘Wild and Wilful – Tales of 15 Iconic Indian Species\,’ received immense appreciation\, while her columns on wildlife and nature are popular worldwide. \nThe session will be held on Saturday\, 16th March 2024 at 4 p.m. at the Mughal Pavilion\, Sunder Nursery\, New Delhi. 
URL:https://delhi-fun-dos.com/events/suitable-conversations-at-sunder-nursery-4/
LOCATION:Sunder Nursery\, Opposite Humayun Tomb Park\, Nizamuddin\, National Zoological Park\, Sundar Nagar\, New Delhi\, Delhi\, India
CATEGORIES:Talks
ATTACH;FMTTYPE=image/jpeg:https://delhi-fun-dos.com/wp-content/uploads/2024/03/suitable-conversations.jpg
END:VEVENT
BEGIN:VEVENT
DTSTART;TZID=Asia/Kolkata:20240120T150000
DTEND;TZID=Asia/Kolkata:20240120T163000
DTSTAMP:20260421T140254
CREATED:20240110T121104Z
LAST-MODIFIED:20240110T121104Z
UID:31699-1705762800-1705768200@delhi-fun-dos.com
SUMMARY:Suitable Conversations
DESCRIPTION:Suitable Conversations at Sunder Nursery featuring Anuradha Roy in conversation with Nandini Nair on ‘Making it All Up’. The session will be held on Saturday\, 20th January 2024 at 3 p.m. at the Mughal Pavilion\, Sunder Nursery\, New Delhi. The speaker will be available to sign your copies of her book(s).  Books will also be available for sale at the venue. \nThe seating will be on a first-come\, first-served basis. \nDate & Time: Saturday\, 20th January 2024 at 3 p.m. \nVenue: Mughal Pavilion\, Sunder Nursery\, New Delhi \nThe event is free for everyone to attend \nRegister Here: https://forms.gle/9HxqwV1cWxhQYfxY8 \n 
URL:https://delhi-fun-dos.com/events/suitable-conversations-3/
LOCATION:Sunder Nursery\, Opposite Humayun Tomb Park\, Nizamuddin\, National Zoological Park\, Sundar Nagar\, New Delhi\, Delhi\, India
CATEGORIES:Free Event,Talks
ATTACH;FMTTYPE=image/jpeg:https://delhi-fun-dos.com/wp-content/uploads/2024/01/suitable-conversations.jpg
END:VEVENT
BEGIN:VEVENT
DTSTART;TZID=Asia/Kolkata:20240117T190000
DTEND;TZID=Asia/Kolkata:20240117T203000
DTSTAMP:20260421T140254
CREATED:20240116T082628Z
LAST-MODIFIED:20240116T082628Z
UID:31768-1705518000-1705523400@delhi-fun-dos.com
SUMMARY:Book Launch and Discussion - Lorenzo Searches for the Meaning of Life
DESCRIPTION:Book Launch and Discussion. Lorenzo Searches for the Meaning of Life by Upamanyu Chatterjee. A study of the extraordinary life of an ordinary man\, a study of both the majesty and banality of the spiritual life. The author will be in conversation with Ritu Menon\, Author and Publisher\, Women Unlimited.\nCollab. Speaking Tiger Books. \nDate & Time: 17 Jan\, 7:00 pm\nVenue: Gulmohar
URL:https://delhi-fun-dos.com/events/book-launch-and-discussion-lorenzo-searches-for-the-meaning-of-life/
LOCATION:Gulmohar – India Habitat Centre\, India Habitat Centre\, Hanuman Road Area\, Lodi Colony\, New Delhi\, Delhi\, 110003
CATEGORIES:Talks
ATTACH;FMTTYPE=image/jpeg:https://delhi-fun-dos.com/wp-content/uploads/2024/01/Lorenzo-Searches-for-the-Meaning-of-Life.jpg
END:VEVENT
BEGIN:VEVENT
DTSTART;TZID=Asia/Kolkata:20231217T150000
DTEND;TZID=Asia/Kolkata:20231217T160000
DTSTAMP:20260421T140254
CREATED:20231211T064803Z
LAST-MODIFIED:20231211T064803Z
UID:31451-1702825200-1702828800@delhi-fun-dos.com
SUMMARY:Suitable Conversations
DESCRIPTION:Suitable Conversations at Sunder Nursery’s next session features Twinkle Khanna in conversation with Shrayana Bhattacharya on ‘The Ladies who Laugh’ \nThe session will be held on Sunday\, 17th December 2023 at 3 p.m. at the Mughal Pavilion\, Sunder Nursery\, New Delhi.  \nThe duration of the event is approximately an hour\, with the conversation followed by a Q&A with the audience. \nPLEASE NOTE: \n\nTo register for the event\, please fill out the form here: https://forms.gle/Wi51AseVki3bJLKc7\nThe event is free for everyone to attend; however\, please note that the regular entry fee to Sunder Nursery will apply.\nSunder Nursery has air purifier units installed throughout the premises\, making it one of the spaces with the cleanest air in the city. Moreover\, the abundant tree cover also helps keep the air cleaner\nThe seating will be on a first-come\, first-served basis. Given that it is a weekend\, we would advise that you factor in an extra 15 minutes at least to get into Sunder Nursery.
URL:https://delhi-fun-dos.com/events/suitable-conversations-2/
LOCATION:Sunder Nursery\, Opposite Humayun Tomb Park\, Nizamuddin\, National Zoological Park\, Sundar Nagar\, New Delhi\, Delhi\, India
CATEGORIES:Free Event,Talks
ATTACH;FMTTYPE=image/jpeg:https://delhi-fun-dos.com/wp-content/uploads/2023/11/sunder-nursery.jpg
END:VEVENT
BEGIN:VEVENT
DTSTART;TZID=Asia/Kolkata:20231216T110000
DTEND;TZID=Asia/Kolkata:20231217T170000
DTSTAMP:20260421T140254
CREATED:20231212T042137Z
LAST-MODIFIED:20231212T042203Z
UID:31459-1702724400-1702832400@delhi-fun-dos.com
SUMMARY:The Delhi Poetry Festival
DESCRIPTION:The Delhi Poetry Festival celebrates its 7th edition and 10 years of existence.\nThe two-day event celebrates poetry\, thought\, languages\, discussions and dialogues\, music\, and much more.\nFeaturing: Nitin and Neil Nitin Mukesh\, Piyush Mishra\, Meeran Chaddha Borwankar\, Arshiya Sethi\, Salma Sultan\, Rini Simon\, Sukrita Paul Kumar\, Rahul Singh\, Nirupama Dutt\, Abhay K\, Mazaz Bin\, Rakhshanda Jaleel and many more \nDates: 16 & 17 Dec\, 2023 \nTimings: 11:00 am Onwards \nVenue: Amphitheatre\, India Habitat Centre
URL:https://delhi-fun-dos.com/events/the-delhi-poetry-festival/
LOCATION:Amphitheatre\, India Habitat Centre\, Lodhi Road\, New Delhi\, Delhi\, 110003
CATEGORIES:Talks
ATTACH;FMTTYPE=image/jpeg:https://delhi-fun-dos.com/wp-content/uploads/2023/12/Delhi-poetry-festival.jpg
END:VEVENT
BEGIN:VEVENT
DTSTART;TZID=Asia/Kolkata:20231209T150000
DTEND;TZID=Asia/Kolkata:20231209T190000
DTSTAMP:20260421T140254
CREATED:20231127T094027Z
LAST-MODIFIED:20231127T094137Z
UID:31239-1702134000-1702148400@delhi-fun-dos.com
SUMMARY:Suitable Conversations at Sunder Nursery
DESCRIPTION:This season will feature poet\, writer\, and scholar Akhil Katyal who will be in conversation with poet and writer Aditi Rao on ‘What (in the world) in Queer Poetry?’ \nThe session will be held on Saturday\, 9th December 2023 at 3 p.m. at the Mughal Pavilion\, Sunder Nursery\, New Delhi.  \nWe expect the duration of the event to be approximately an hour\, with the conversation followed by a Q&A with the audience\, and finally\, a book signing session. \nPLEASE NOTE: \n\nTo register for the event\, please fill out the form here: https://forms.gle/PhtxRHFdBx2oa9xd6\nThe event is free for everyone to attend; however\, please note that the regular entry fee to Sunder Nursery will apply.\nSunder Nursery has air purifier units installed throughout the premises\, making it one of the spaces with the cleanest air in the city. Moreover\, the abundant tree cover also helps keep the air cleaner\nThe seating will be on a first-come\, first-served basis. Given that it is a weekend\, we would advise that you factor in an extra 15 minutes at least to get into Sunder Nursery.
URL:https://delhi-fun-dos.com/events/suitable-conversations-at-sunder-nursery-2/
LOCATION:Sunder Nursery\, Opposite Humayun Tomb Park\, Nizamuddin\, National Zoological Park\, Sundar Nagar\, New Delhi\, Delhi\, India
CATEGORIES:Free Event,Talks
ATTACH;FMTTYPE=image/jpeg:https://delhi-fun-dos.com/wp-content/uploads/2023/11/sunder-nursery.jpg
END:VEVENT
BEGIN:VEVENT
DTSTART;TZID=Asia/Kolkata:20231202T160000
DTEND;TZID=Asia/Kolkata:20231202T183000
DTSTAMP:20260421T140254
CREATED:20231128T121409Z
LAST-MODIFIED:20231128T121409Z
UID:31281-1701532800-1701541800@delhi-fun-dos.com
SUMMARY:Book Discussion on Rang Vidushak
DESCRIPTION:Indira Gandhi National Centre for the Arts\, Kala Nidhi Division is organizing Launch and Book Discussion on Rang Vidushak – A mask without a mask : Bansi Kaul Edited by Alan Tweedie\, Compiled by Anjana Puri on 2nd December\, 2023 at 04.00 PM at Samvet Auditorium. More details can be seen in the attached poster. All are cordially invited to attend it. \nDate & Time: 2nd December\, 2023 at 04.00 PM \nVenue: Samvet Auditorium
URL:https://delhi-fun-dos.com/events/book-discussion-on-rang-vidushak/
LOCATION:Samvet Auditorium\, New Delhi\, Samvet Auditorium\, IGNCA\, Janpath Building\, New Delhi\, Delhi\, 110001\, India
CATEGORIES:Talks
ATTACH;FMTTYPE=image/jpeg:https://delhi-fun-dos.com/wp-content/uploads/2023/11/rang-vidushak.jpg
END:VEVENT
BEGIN:VEVENT
DTSTART;TZID=Asia/Kolkata:20231129T190000
DTEND;TZID=Asia/Kolkata:20231129T213000
DTSTAMP:20260421T140254
CREATED:20231127T090803Z
LAST-MODIFIED:20231127T091237Z
UID:31228-1701284400-1701293400@delhi-fun-dos.com
SUMMARY:Karwaan Baithak
DESCRIPTION:A Journey into Delhi’s Heritage\, Culture\, and Poetry: Sohail Hashmi in conversation with Saif Mahmood. Join us for an enriching evening as we embark on a captivating journey through the heart and soul of Delhi’s heritage\, culture\, and poetry with the two distinguished Dilliwallahs. Sohail Hashmi is a renowned writer-filmmaker\, and a self-proclaimed history buff and heritage enthusiast. Dr. Saif Mahmood\, an Advocate of the Supreme Court of India\, has a dual identity as a legal luminary and a connoisseur of Urdu literature\, as exemplified in his authoritative work\, Beloved Delhi: A Mughal City and Her Greatest Poets (2018).\nCollab. Karwaan: The Heritage Exploration Initiative. \nDate & Time: 29 Nov\, 7:00 pm \nVenue: Gulmohar\, India Habitat Centre
URL:https://delhi-fun-dos.com/events/karwaan-baithak/
LOCATION:Gulmohar – India Habitat Centre\, India Habitat Centre\, Hanuman Road Area\, Lodi Colony\, New Delhi\, Delhi\, 110003
CATEGORIES:Talks
ATTACH;FMTTYPE=image/jpeg:https://delhi-fun-dos.com/wp-content/uploads/2023/11/Karwaan-Baithak1.jpg
END:VEVENT
BEGIN:VEVENT
DTSTART;TZID=Asia/Kolkata:20231124T110000
DTEND;TZID=Asia/Kolkata:20231126T170000
DTSTAMP:20260421T140254
CREATED:20231110T043417Z
LAST-MODIFIED:20231110T043735Z
UID:30688-1700823600-1701018000@delhi-fun-dos.com
SUMMARY:IHC Samanvay 2023
DESCRIPTION:From 24th to 26th November 2023 for our literature festival IHC Samanvay: Celebrating Indian Languages\, which returns with themes ranging from Food\, History\, The Body\, Sexuality\, and Rivers. \nWe are all set to bring you conversations\, speakers\, books\, and performances in multiple languages and voices from across the country. \n\nBooks\nSpeakers\nConversations\nPerformances\n\nDate & Time: Nov 24-26\, 2023\, 11:00 am onwards\nVenue: Amphitheatre\, IHC\nOpen to all and Entry free
URL:https://delhi-fun-dos.com/events/ihc-samanvay-2023/
LOCATION:Amphitheatre\, India Habitat Centre\, Lodhi Road\, New Delhi\, Delhi\, 110003
CATEGORIES:Art & Literature,Live Performance,Talks
ATTACH;FMTTYPE=image/jpeg:https://delhi-fun-dos.com/wp-content/uploads/2023/11/samanvay-2023.jpg
END:VEVENT
BEGIN:VEVENT
DTSTART;TZID=Asia/Kolkata:20231118T160000
DTEND;TZID=Asia/Kolkata:20231118T180000
DTSTAMP:20260421T140254
CREATED:20231109T110932Z
LAST-MODIFIED:20231109T110932Z
UID:30685-1700323200-1700330400@delhi-fun-dos.com
SUMMARY:Suitable Conversations at Sunder Nursery
DESCRIPTION:We’re delighted to be back with the third season of Suitable Conversations at Sunder Nursery. \nOur first session this season will feature acclaimed mythologist and bestselling writer Devdutt Pattanaik who will be in conversation with the director of Teamwork Arts and producer of the Jaipur Literature Festival\, Sanjoy Roy on ‘The Geography of Mythology: Where Do Gods Reside?’ \nThe session will be held on Saturday\, 18th November 2023 at 4 p.m. at the Mughal Pavilion\, Sunder Nursery\, New Delhi. We expect the duration of the event to be approximately an hour\, with the conversation followed by a Q&A with the audience\, and finally\, a book signing session. \nPLEASE NOTE:\n\nThe event is free for everyone to attend; however\, please note that the regular entry fee to Sunder Nursery will apply.\nSunder Nursery has air purifier units installed throughout the premises\, making it one of the spaces with the cleanest air in the city. Moreover\, the abundant tree cover also helps keep the air cleaner\nThe seating will be on a first-come\, first-served basis. Given that it is a weekend\, we would advise that you factor in an extra 15 minutes at least to get into Sunder Nursery.\nWe request you to be seated by 3.45 p.m.\nTo register for the event\, please fill the form here: https://forms.gle/n8qc4LkAHLzLGG6h9\n\nWe hope to see you at the event!
URL:https://delhi-fun-dos.com/events/suitable-conversations-at-sunder-nursery/
LOCATION:Sunder Nursery\, Opposite Humayun Tomb Park\, Nizamuddin\, National Zoological Park\, Sundar Nagar\, New Delhi\, Delhi\, India
CATEGORIES:Talks
ATTACH;FMTTYPE=image/jpeg:https://delhi-fun-dos.com/wp-content/uploads/2023/11/sunder-nursery.jpg
END:VEVENT
BEGIN:VEVENT
DTSTART;TZID=Asia/Kolkata:20231009T190000
DTEND;TZID=Asia/Kolkata:20231009T203000
DTSTAMP:20260421T140254
CREATED:20231009T050404Z
LAST-MODIFIED:20231009T050533Z
UID:30413-1696878000-1696883400@delhi-fun-dos.com
SUMMARY:Sabha
DESCRIPTION:India Habitat Centre and Rajkamal Prakashan Samuh monthly series of discussions called ‘Sabha’ will be held on October 9\, 2023\, Monday\, starting at 7 PM. The event of ‘Sabha’ will focus on the topic ‘Rashtra\, Rashtriyata aur Rashtravad’. Writer Apoorvanand\, S.Irfan Habib\, Zoya Hasan\, Badri Narayan\, Ratan Lal\, and Rama Shankar Singh will participate in this discussion. \nDate & Time: October 9\, 2023\, Monday\, 7 PM \nVenue: Gulmohar – India Habitat Centre \nIndia Habitat Centre Delhi \n 
URL:https://delhi-fun-dos.com/events/sabha/
LOCATION:Gulmohar – India Habitat Centre\, India Habitat Centre\, Hanuman Road Area\, Lodi Colony\, New Delhi\, Delhi\, 110003
CATEGORIES:Talks
ATTACH;FMTTYPE=image/jpeg:https://delhi-fun-dos.com/wp-content/uploads/2023/10/sabha.jpg
END:VEVENT
BEGIN:VEVENT
DTSTART;TZID=Asia/Kolkata:20231004T210000
DTEND;TZID=Asia/Kolkata:20231004T230000
DTSTAMP:20260421T140254
CREATED:20230919T085236Z
LAST-MODIFIED:20230919T085236Z
UID:30282-1696453200-1696460400@delhi-fun-dos.com
SUMMARY:Dare to Overcome
DESCRIPTION:Dare to Overcome’s flagship event to be in New Delh \nDTO builds on India’s G20 success \nDare to Overcome India (DTO) is a unique event that emphasises the core values that business leaders must engender and espouse in order to create an inclusive\, diverse and peaceful work environment. It is the premier global event for business leaders to come together and share best practices\, moral virtues\, and corporate values as allies belonging to differing cultures\, who have to function cohesively in workplaces and market-places – with the one collective goal of building sustainable peace and prosperity. Teamwork Arts is producing DTO’s next flagship international event\, along with awards for business leaders and companies advancing peace and allyship among diverse communities\, which will take place in New Delhi\, India\, on 4 October 2023. \nDTO-India 2023 will also be the first-ever international gathering of Employee Resource Groups (ERGs) committed to fostering intercultural understanding in corporate workplaces\, including representatives from MNCs Salesforce\, PayPal\, Equinix\, American Airlines\, etc. A call will be made for all companies to consider adding such ERGs to their diversity\, equity and inclusion (DEI) initiatives. DTO’s Unity in Diversity global gathering will be held at the Taj Mahal Hotel in New Delhi. \nDate: 4th October\, 2023\nTime: 9:00 AM Onwards\nVenue: Taj Mahal Hotel\, Mansingh Road\, New Delhi
URL:https://delhi-fun-dos.com/events/dare-to-overcome/
LOCATION:Taj Mahal Hotel\, Mansingh Road\, New Delhi\, India
CATEGORIES:Talks
ATTACH;FMTTYPE=image/jpeg:https://delhi-fun-dos.com/wp-content/uploads/2023/09/Dare-to-Overcome.jpg
END:VEVENT
BEGIN:VEVENT
DTSTART;TZID=Asia/Kolkata:20230915T190000
DTEND;TZID=Asia/Kolkata:20230915T213000
DTSTAMP:20260421T140254
CREATED:20230913T093705Z
LAST-MODIFIED:20230913T093705Z
UID:30264-1694804400-1694813400@delhi-fun-dos.com
SUMMARY:Book Launch and Discussion - Tall Tales by a Small Dog
DESCRIPTION:Book Launch and Discussion. Tall Tales by a Small Dog by Omair Ahmad.\nOne of India’s most distinctive authors returns to fiction with a funny\, quirky\, unputdownable chain of stories about the heroes\, villains\, and oddballs of Gorakhpur\, the legendary small town—as famous as it is notorious—in the heart of India. The author will be in conversation with Seema Chishti\, journalist\, author\, and Editor (The Wire). Collab. Speaking Tiger.\n\n\n\n\n\n\n\n\n\n\n\n\n\n\n\n\n\n\n\n\n\n\n\n\n\nFree\n\nDate & Timing: 15 Sept\, 7:00pm \nVenue: Gulmohar\, India Habitat Centre
URL:https://delhi-fun-dos.com/events/book-launch-and-discussion-tall-tales-by-a-small-dog/
LOCATION:Gulmohar – India Habitat Centre\, India Habitat Centre\, Hanuman Road Area\, Lodi Colony\, New Delhi\, Delhi\, 110003
CATEGORIES:Art & Literature,Talks
ATTACH;FMTTYPE=image/jpeg:https://delhi-fun-dos.com/wp-content/uploads/2023/09/Tall-Tales-by-a-small-dog.jpg
END:VEVENT
BEGIN:VEVENT
DTSTART;TZID=Asia/Kolkata:20230806T190000
DTEND;TZID=Asia/Kolkata:20230806T203000
DTSTAMP:20260421T140254
CREATED:20230802T072935Z
LAST-MODIFIED:20230802T073506Z
UID:30090-1691348400-1691353800@delhi-fun-dos.com
SUMMARY:Book Launch & Discussion-Irrfan
DESCRIPTION:Book Launch & Discussion. Irrfan: A Life in Movies by Shubhra Gupta. A portrait of one of Indian cinema’s most influential artists – Irrfan’s films\, his craft\, and his philosophy as an actor\, suffused with anecdotes by family\, peers\, and industry colleagues. Book release will be followed by a panel discussion. Panelists: Shubhra Gupta\, author & film critic; Seema Chisti\, senior journalist & editor; Sutapa Sikdar\, writer & actor; Jonathan Gil Harris\, Head of the Department and Professor of English\, Ashoka University. Collab. Pan Macmillan India. \n Free – Registration Required \nVenue: Gulmohar\, India Habitat Centre \nDate & Time: 6 Aug\, 7:00 pm
URL:https://delhi-fun-dos.com/events/book-launch-discussion-irrfan/
LOCATION:Gulmohar – India Habitat Centre\, India Habitat Centre\, Hanuman Road Area\, Lodi Colony\, New Delhi\, Delhi\, 110003
CATEGORIES:Talks
ATTACH;FMTTYPE=image/jpeg:https://delhi-fun-dos.com/wp-content/uploads/2023/08/Irrfan-IHC-talk.jpg
END:VEVENT
BEGIN:VEVENT
DTSTART;TZID=Asia/Kolkata:20230603T160000
DTEND;TZID=Asia/Kolkata:20230603T193000
DTSTAMP:20260421T140254
CREATED:20230530T094116Z
LAST-MODIFIED:20230622T092327Z
UID:29638-1685808000-1685820600@delhi-fun-dos.com
SUMMARY:New practices session 6 Featuring Varun Grover and Anurag Minus Verma
DESCRIPTION:KNMA presents “New practices session 6 Special Edition” Featuring Varun Grover and Anurag Minus Verma \nThe New Practises talk series is back with a Special Edition where we look at popular cultures and artistic expressions in the form of filmmaking; fictional and documentary narrative style of video art and satire. \nThis session also invites a larger audience that do not frequent an art museum by habit but can consume and appreciate quality digital content in the form of well-written sets\, social satire\, and films. \nKNMA is delighted to host artists\, Varun Grover and Anurag Minus Verma\, two critical representatives of the changing landscape of the moving image\, that is always pushing the boundaries of visual arts and offer an opportunity of engaging in constructive dialogue. \nAnurag Minus Verma is a multimedia artist. He studied Art and Aesthetics at JNU\, Delhi\, and film editing at FTII\, Pune. His video diaries and character videos have gained a substantial social media following. His films have been screened at prestigious festivals worldwide. In addition to his video work\, Anurag writes published opinion pieces. His popular podcast invites global thinkers and artists to discuss pressing issues. Anurag has been invited to share his journey at renowned institutions like Harvard\, the University of Michigan\, and Brandeis University. \n \nVarun Grover is a screen-writer (Masaan\, Sacred Games\, Sandeep aur Pinky Faraar)\, National Award-winning lyricist (Gangs of Wasseypur\, Dum Laga Ke Haisha\, Ankhon Dekhi\, Fan\, Udta Punjab)\, stand-up comedian\, and short-story writer (short story collection Paper Chor and graphic novel Biksu) based in Mumbai. His debut short film Kiss (2022) has travelled to more than twenty film festivals and has won multiple awards. He is currently finishing his debut feature film All India Rank set to release in 2023. \n \nKISS – synopsis (special screening. Dir- Varun Grover) \nAt a preview theatre\, a young filmmaker waits in the hope of getting his new sci-fi drama certified with ‘no cuts’ by the conservative men of the Indian Censor Board. \nThe board finds a particular kissing scene in the film beyond the duration stipulated by official\, orthodox rules. As the filmmaker and board members argue over the length of the kiss\, the laws of physics disintegrate around them.
URL:https://delhi-fun-dos.com/events/knma-presents-new-practices-session-6-featuring-varun-grover-and-anurag-minus-verma/
LOCATION:KNMA Saket\, 145\, DLF South Court Mall\, Saket\, new Delhi\, Delhi\, 110017\, India
CATEGORIES:Free Event,Talks
ATTACH;FMTTYPE=image/jpeg:https://delhi-fun-dos.com/wp-content/uploads/2023/05/New-Practices-6-12.jpg
END:VEVENT
BEGIN:VEVENT
DTSTART;TZID=Asia/Kolkata:20230311T163000
DTEND;TZID=Asia/Kolkata:20230311T200000
DTSTAMP:20260421T140254
CREATED:20230310T064519Z
LAST-MODIFIED:20230310T065810Z
UID:29019-1678552200-1678564800@delhi-fun-dos.com
SUMMARY:Suitable Conversations
DESCRIPTION:Spring is here in full bloom at Sunder Nursery! Join us for the next Suitable Conversations as Swapna Liddle and William Dalrymple discuss ‘Delhi between the Mughals and the British’\nDate & Time: Saturday 11th March 2023 | 4.30 p.m.\nVenue: Mughal Pavilion\, Sunder Nursery\nSwapna Liddle\, Writer\, and Historian\, in conversation with William Dalrymple on\nDELHI BETWEEN THE MUGHALS AND THE BRITISH \nSpread the word! See you at the event 🌸🌷🌳
URL:https://delhi-fun-dos.com/events/suitable-conversations/
LOCATION:Sunder Nursery\, Opposite Humayun Tomb Park\, Nizamuddin\, National Zoological Park\, Sundar Nagar\, New Delhi\, Delhi\, India
CATEGORIES:Talks
ATTACH;FMTTYPE=image/jpeg:https://delhi-fun-dos.com/wp-content/uploads/2023/03/Suitable-Conversations.jpg
END:VEVENT
END:VCALENDAR